View In:
ArcGIS JavaScript
ArcGIS Online Map Viewer
ArcGIS Earth
Service Description: topo_render_01_tif
Name: topo_render_01_tif
Description:
Single Fused Map Cache: false
Extent:
XMin: -1.6978256756311692E7
YMin: 7867384.742880011
XMax: -1.6964909572784938E7
YMax: 7884953.609292254
Spatial Reference: 102100
(3857)
LatestVCSWkid(0)
Initial Extent:
XMin: -1.6978256756311692E7
YMin: 7867384.742880011
XMax: -1.6964909572784938E7
YMax: 7884953.609292254
Spatial Reference: 102100
(3857)
LatestVCSWkid(0)
Full Extent:
XMin: -1.6978256756311692E7
YMin: 7867384.742880011
XMax: -1.6964909572784938E7
YMax: 7884953.609292254
Spatial Reference: 102100
(3857)
LatestVCSWkid(0)
Pixel Size X: 1.9105616270762067
Pixel Size Y: 6.0332645646438445
Band Count: 4
Pixel Type: U8
RasterFunction Infos: {"rasterFunctionInfos": [{
"name": "None",
"description": "",
"help": ""
}]}
Mensuration Capabilities: Basic
Inspection Capabilities:
Has Histograms: true
Has Colormap: false
Has Multi Dimensions : false
Rendering Rule:
Min Scale: 0
Max Scale: 0
Resampling: false
Copyright Text:
Service Data Type: esriImageServiceDataTypeGeneric
Min Values: 34, 34, 34, 255
Max Values: 225, 225, 225, 255
Mean Values: 145.65636317212, 146.64814989693, 143.10967295088, 255
Standard Deviation Values: 26.711173014923, 26.624138444003, 27.039038058147, 0
Object ID Field:
Fields:
None
Default Mosaic Method: Center
Allowed Mosaic Methods:
SortField:
SortValue: null
Mosaic Operator: First
Default Compression Quality: 75
Default Resampling Method: Bilinear
Max Record Count: null
Max Image Height: 4100
Max Image Width: 15000
Max Download Image Count: null
Max Mosaic Image Count: null
Allow Raster Function: true
Allow Copy: true
Allow Analysis: true
Allow Compute TiePoints: false
Supports Statistics: false
Supports Advanced Queries: false
Use StandardizedQueries: true
Raster Type Infos:
Name: Raster Dataset
Description: Supports all ArcGIS Raster Datasets
Help:
Has Raster Attribute Table: false
Edit Fields Info: null
Ownership Based AccessControl For Rasters: null
Child Resources:
Info
Histograms
Statistics
Key Properties
Legend
Raster Function Infos
Supported Operations:
Export Image
Identify
Measure
Compute Histograms
Compute Statistics Histograms
Get Samples
Compute Class Statistics
Query Boundary
Compute Pixel Location
Compute Angles
Validate
Project