{
 "currentVersion": 11.3,
 "serviceDescription": "topo_render_01_tif",
 "name": "topo_render_01_tif",
 "description": "",
 "extent": {
  "xmin": -1.6978256756311692E7,
  "ymin": 7867384.742880011,
  "xmax": -1.6964909572784938E7,
  "ymax": 7884953.609292254,
  "spatialReference": {
   "wkid": 102100,
   "latestWkid": 3857
  }
 },
 "initialExtent": {
  "xmin": -1.6978256756311692E7,
  "ymin": 7867384.742880011,
  "xmax": -1.6964909572784938E7,
  "ymax": 7884953.609292254,
  "spatialReference": {
   "wkid": 102100,
   "latestWkid": 3857
  }
 },
 "fullExtent": {
  "xmin": -1.6978256756311692E7,
  "ymin": 7867384.742880011,
  "xmax": -1.6964909572784938E7,
  "ymax": 7884953.609292254,
  "spatialReference": {
   "wkid": 102100,
   "latestWkid": 3857
  }
 },
 "sortableFields": "",
 "bandCount": 4,
 "pixelType": "U8",
 "minValues": [
  34,
  34,
  34,
  255
 ],
 "maxValues": [
  225,
  225,
  225,
  255
 ],
 "meanValues": [
  145.65636317212,
  146.64814989693,
  143.10967295088,
  255
 ],
 "stdvValues": [
  26.711173014923,
  26.624138444003,
  27.039038058147,
  0
 ],
 "hasMultidimensions": false,
 "pixelSizeX": 1.9105616270762067,
 "pixelSizeY": 6.0332645646438445,
 "meanPixelSize": 3.9719130958600255,
 "datasetFormat": "TIFF",
 "uncompressedSize": 81372928,
 "blockWidth": 128,
 "blockHeight": 128,
 "compressionType": "LZW",
 "bandNames": [
  "Band_1",
  "Band_2",
  "Band_3",
  "Band_4"
 ],
 "allowCopy": true,
 "allowAnalysis": true,
 "itemAccess": false,
 "inspectionCapabilities": "",
 "noDataValue": 0,
 "noDataValues": [
  0,
  0,
  0,
  0
 ],
 "minPixelSize": 0,
 "maxPixelSize": 0,
 "copyrightText": "",
 "serviceDataType": "esriImageServiceDataTypeGeneric",
 "serviceSourceType": "esriImageServiceSourceTypeDataset",
 "objectIdField": "",
 "fields": [],
 "capabilities": "Mensuration,Image,Metadata",
 "defaultMosaicMethod": "Center",
 "allowedMosaicMethods": "",
 "sortField": "",
 "sortValue": null,
 "sortAscending": true,
 "mosaicOperator": "First",
 "defaultCompressionQuality": 75,
 "defaultResamplingMethod": "Bilinear",
 "maxImageHeight": 4100,
 "maxImageWidth": 15000,
 "allowRasterFunction": true,
 "rasterFunctionInfos": [
  {
   "name": "None",
   "description": "",
   "help": ""
  }
 ],
 "rasterTypeInfos": [
  {
   "name": "Raster Dataset",
   "description": "Supports all ArcGIS Raster Datasets",
   "help": ""
  }
 ],
 "mensurationCapabilities": "Basic",
 "hasHistograms": true,
 "hasColormap": false,
 "hasRasterAttributeTable": false,
 "minScale": 0,
 "maxScale": 0,
 "exportTilesAllowed": false,
 "supportsStatistics": false,
 "supportsAdvancedQueries": false,
 "editFieldsInfo": null,
 "ownershipBasedAccessControlForRasters": null,
 "allowComputeTiePoints": false,
 "useStandardizedQueries": true,
 "advancedQueryCapabilities": {
  "useStandardizedQueries": true,
  "supportsStatistics": false,
  "supportsOrderBy": false,
  "supportsDistinct": false,
  "supportsPagination": false
 },
 "spatialReference": {
  "wkid": 102100,
  "latestWkid": 3857
 },
 "resampling": false
}
