View In:
ArcGIS JavaScript
ArcGIS Online Map Viewer
ArcGIS Earth
Service Description: AK_SPCS2022_partial_LandOnly_38_zones_ppm15s_img
Name: AK_SPCS2022_partial_LandOnly_38_zones_ppm15s_img
Description:
Single Fused Map Cache: false
Extent:
XMin: -169.111111111111
YMin: 55.52972222222226
XMax: -137.49999999999994
YMax: 71.39083333333335
Spatial Reference: 104145
(6318)
LatestVCSWkid(0)
Initial Extent:
XMin: -169.111111111111
YMin: 55.52972222222226
XMax: -137.49999999999994
YMax: 71.39083333333335
Spatial Reference: 104145
(6318)
LatestVCSWkid(0)
Full Extent:
XMin: -169.111111111111
YMin: 55.52972222222226
XMax: -137.49999999999994
YMax: 71.39083333333335
Spatial Reference: 104145
(6318)
LatestVCSWkid(0)
Pixel Size X: 0.002777777777777773
Pixel Size Y: 0.0027777777777777735
Band Count: 1
Pixel Type: F32
RasterFunction Infos: {"rasterFunctionInfos": [{
"name": "None",
"description": "",
"help": ""
}]}
Mensuration Capabilities: Basic
Inspection Capabilities:
Has Histograms: true
Has Colormap: false
Has Multi Dimensions : false
Rendering Rule:
Min Scale: 0
Max Scale: 0
Resampling: false
Copyright Text:
Service Data Type: esriImageServiceDataTypeGeneric
Min Values: -940.68859863281
Max Values: 191.23199462891
Mean Values: -32.820874809638
Standard Deviation Values: 58.755025353688
Object ID Field:
Fields:
None
Default Mosaic Method: Center
Allowed Mosaic Methods:
SortField:
SortValue: null
Mosaic Operator: First
Default Compression Quality: 75
Default Resampling Method: Bilinear
Max Record Count: null
Max Image Height: 4100
Max Image Width: 15000
Max Download Image Count: null
Max Mosaic Image Count: null
Allow Raster Function: true
Allow Copy: true
Allow Analysis: true
Allow Compute TiePoints: false
Supports Statistics: false
Supports Advanced Queries: false
Use StandardizedQueries: true
Raster Type Infos:
Name: Raster Dataset
Description: Supports all ArcGIS Raster Datasets
Help:
Has Raster Attribute Table: false
Edit Fields Info: null
Ownership Based AccessControl For Rasters: null
Child Resources:
Info
Histograms
Statistics
Key Properties
Legend
Raster Function Infos
Supported Operations:
Export Image
Identify
Measure
Compute Histograms
Compute Statistics Histograms
Get Samples
Compute Class Statistics
Query Boundary
Compute Pixel Location
Compute Angles
Validate
Project