{
 "currentVersion": 11.3,
 "serviceDescription": "AK_SPCS2022_partial_LandOnly_38_zones_ppm15s_img",
 "name": "AK_SPCS2022_partial_LandOnly_38_zones_ppm15s_img",
 "description": "",
 "extent": {
  "xmin": -169.111111111111,
  "ymin": 55.52972222222226,
  "xmax": -137.49999999999994,
  "ymax": 71.39083333333335,
  "spatialReference": {
   "wkid": 104145,
   "latestWkid": 6318
  }
 },
 "initialExtent": {
  "xmin": -169.111111111111,
  "ymin": 55.52972222222226,
  "xmax": -137.49999999999994,
  "ymax": 71.39083333333335,
  "spatialReference": {
   "wkid": 104145,
   "latestWkid": 6318
  }
 },
 "fullExtent": {
  "xmin": -169.111111111111,
  "ymin": 55.52972222222226,
  "xmax": -137.49999999999994,
  "ymax": 71.39083333333335,
  "spatialReference": {
   "wkid": 104145,
   "latestWkid": 6318
  }
 },
 "sortableFields": "",
 "bandCount": 1,
 "pixelType": "F32",
 "minValues": [
  -940.68859863281
 ],
 "maxValues": [
  191.23199462891
 ],
 "meanValues": [
  -32.820874809638
 ],
 "stdvValues": [
  58.755025353688
 ],
 "hasMultidimensions": false,
 "pixelSizeX": 0.002777777777777773,
 "pixelSizeY": 0.0027777777777777735,
 "meanPixelSize": 309.22080775909274,
 "datasetFormat": "IMAGINE Image",
 "uncompressedSize": 259919200,
 "blockWidth": 64,
 "blockHeight": 64,
 "compressionType": "RLE",
 "bandNames": [
  "Layer_1"
 ],
 "allowCopy": true,
 "allowAnalysis": true,
 "itemAccess": false,
 "inspectionCapabilities": "",
 "noDataValue": -3.4028230607370965E38,
 "noDataValues": [
  -3.4028230607370965E38
 ],
 "minPixelSize": 0,
 "maxPixelSize": 0,
 "copyrightText": "",
 "serviceDataType": "esriImageServiceDataTypeGeneric",
 "serviceSourceType": "esriImageServiceSourceTypeDataset",
 "objectIdField": "",
 "fields": [],
 "capabilities": "Mensuration,Image,Metadata",
 "defaultMosaicMethod": "Center",
 "allowedMosaicMethods": "",
 "sortField": "",
 "sortValue": null,
 "sortAscending": true,
 "mosaicOperator": "First",
 "defaultCompressionQuality": 75,
 "defaultResamplingMethod": "Bilinear",
 "maxImageHeight": 4100,
 "maxImageWidth": 15000,
 "allowRasterFunction": true,
 "rasterFunctionInfos": [
  {
   "name": "None",
   "description": "",
   "help": ""
  }
 ],
 "rasterTypeInfos": [
  {
   "name": "Raster Dataset",
   "description": "Supports all ArcGIS Raster Datasets",
   "help": ""
  }
 ],
 "mensurationCapabilities": "Basic",
 "hasHistograms": true,
 "hasColormap": false,
 "hasRasterAttributeTable": false,
 "minScale": 0,
 "maxScale": 0,
 "exportTilesAllowed": false,
 "supportsStatistics": false,
 "supportsAdvancedQueries": false,
 "editFieldsInfo": null,
 "ownershipBasedAccessControlForRasters": null,
 "allowComputeTiePoints": false,
 "useStandardizedQueries": true,
 "advancedQueryCapabilities": {
  "useStandardizedQueries": true,
  "supportsStatistics": false,
  "supportsOrderBy": false,
  "supportsDistinct": false,
  "supportsPagination": false
 },
 "spatialReference": {
  "wkid": 104145,
  "latestWkid": 6318
 },
 "resampling": false
}
