View In:
ArcGIS JavaScript
ArcGIS Online Map Viewer
ArcGIS Earth
Service Description: AK_SPCS2022_LandOnly_21_zones_ppm15s_img
Name: AK_SPCS2022_LandOnly_21_zones_ppm15s_img
Description:
Single Fused Map Cache: false
Extent:
XMin: -179.15000000000043
YMin: 50.7458333333345
XMax: 179.7791666663398
YMax: 71.39166666664906
Spatial Reference: 104145
(6318)
LatestVCSWkid(0)
Initial Extent:
XMin: -179.15000000000043
YMin: 50.7458333333345
XMax: 179.7791666663398
YMax: 71.39166666664906
Spatial Reference: 104145
(6318)
LatestVCSWkid(0)
Full Extent:
XMin: -179.15000000000043
YMin: 50.7458333333345
XMax: 179.7791666663398
YMax: 71.39166666664906
Spatial Reference: 104145
(6318)
LatestVCSWkid(0)
Pixel Size X: 0.004166666666662877
Pixel Size Y: 0.004166666666662877
Band Count: 1
Pixel Type: F32
RasterFunction Infos: {"rasterFunctionInfos": [{
"name": "None",
"description": "",
"help": ""
}]}
Mensuration Capabilities: Basic
Inspection Capabilities:
Has Histograms: true
Has Colormap: false
Has Multi Dimensions : false
Rendering Rule:
Min Scale: 0
Max Scale: 0
Resampling: false
Copyright Text:
Service Data Type: esriImageServiceDataTypeGeneric
Min Values: -801.56079101562
Max Values: 335.92459106445
Mean Values: -55.261858621804
Standard Deviation Values: 95.138928118413
Object ID Field:
Fields:
None
Default Mosaic Method: Center
Allowed Mosaic Methods:
SortField:
SortValue: null
Mosaic Operator: First
Default Compression Quality: 75
Default Resampling Method: Bilinear
Max Record Count: null
Max Image Height: 4100
Max Image Width: 15000
Max Download Image Count: null
Max Mosaic Image Count: null
Allow Raster Function: true
Allow Copy: true
Allow Analysis: true
Allow Compute TiePoints: false
Supports Statistics: false
Supports Advanced Queries: false
Use StandardizedQueries: true
Raster Type Infos:
Name: Raster Dataset
Description: Supports all ArcGIS Raster Datasets
Help:
Has Raster Attribute Table: false
Edit Fields Info: null
Ownership Based AccessControl For Rasters: null
Child Resources:
Info
Histograms
Statistics
Key Properties
Legend
Raster Function Infos
Supported Operations:
Export Image
Identify
Measure
Compute Histograms
Compute Statistics Histograms
Get Samples
Compute Class Statistics
Query Boundary
Compute Pixel Location
Compute Angles
Validate
Project