{
 "currentVersion": 11.3,
 "serviceDescription": "AK_SPCS2022_LandOnly_21_zones_ppm15s_img",
 "name": "AK_SPCS2022_LandOnly_21_zones_ppm15s_img",
 "description": "",
 "extent": {
  "xmin": -179.15000000000043,
  "ymin": 50.7458333333345,
  "xmax": 179.7791666663398,
  "ymax": 71.39166666664906,
  "spatialReference": {
   "wkid": 104145,
   "latestWkid": 6318
  }
 },
 "initialExtent": {
  "xmin": -179.15000000000043,
  "ymin": 50.7458333333345,
  "xmax": 179.7791666663398,
  "ymax": 71.39166666664906,
  "spatialReference": {
   "wkid": 104145,
   "latestWkid": 6318
  }
 },
 "fullExtent": {
  "xmin": -179.15000000000043,
  "ymin": 50.7458333333345,
  "xmax": 179.7791666663398,
  "ymax": 71.39166666664906,
  "spatialReference": {
   "wkid": 104145,
   "latestWkid": 6318
  }
 },
 "sortableFields": "",
 "bandCount": 1,
 "pixelType": "F32",
 "minValues": [
  -801.56079101562
 ],
 "maxValues": [
  335.92459106445
 ],
 "meanValues": [
  -55.261858621804
 ],
 "stdvValues": [
  95.138928118413
 ],
 "hasMultidimensions": false,
 "pixelSizeX": 0.004166666666662877,
 "pixelSizeY": 0.004166666666662877,
 "meanPixelSize": 463.831211638218,
 "datasetFormat": "IMAGINE Image",
 "uncompressedSize": 1707354260,
 "blockWidth": 64,
 "blockHeight": 64,
 "compressionType": "RLE",
 "bandNames": [
  "Layer_1"
 ],
 "allowCopy": true,
 "allowAnalysis": true,
 "itemAccess": false,
 "inspectionCapabilities": "",
 "noDataValue": -3.4028230607370965E38,
 "noDataValues": [
  -3.4028230607370965E38
 ],
 "minPixelSize": 0,
 "maxPixelSize": 0,
 "copyrightText": "",
 "serviceDataType": "esriImageServiceDataTypeGeneric",
 "serviceSourceType": "esriImageServiceSourceTypeDataset",
 "objectIdField": "",
 "fields": [],
 "capabilities": "Mensuration,Image,Metadata",
 "defaultMosaicMethod": "Center",
 "allowedMosaicMethods": "",
 "sortField": "",
 "sortValue": null,
 "sortAscending": true,
 "mosaicOperator": "First",
 "defaultCompressionQuality": 75,
 "defaultResamplingMethod": "Bilinear",
 "maxImageHeight": 4100,
 "maxImageWidth": 15000,
 "allowRasterFunction": true,
 "rasterFunctionInfos": [
  {
   "name": "None",
   "description": "",
   "help": ""
  }
 ],
 "rasterTypeInfos": [
  {
   "name": "Raster Dataset",
   "description": "Supports all ArcGIS Raster Datasets",
   "help": ""
  }
 ],
 "mensurationCapabilities": "Basic",
 "hasHistograms": true,
 "hasColormap": false,
 "hasRasterAttributeTable": false,
 "minScale": 0,
 "maxScale": 0,
 "exportTilesAllowed": false,
 "supportsStatistics": false,
 "supportsAdvancedQueries": false,
 "editFieldsInfo": null,
 "ownershipBasedAccessControlForRasters": null,
 "allowComputeTiePoints": false,
 "useStandardizedQueries": true,
 "advancedQueryCapabilities": {
  "useStandardizedQueries": true,
  "supportsStatistics": false,
  "supportsOrderBy": false,
  "supportsDistinct": false,
  "supportsPagination": false
 },
 "spatialReference": {
  "wkid": 104145,
  "latestWkid": 6318
 },
 "resampling": false
}
