View In:
ArcGIS JavaScript
ArcGIS Online Map Viewer
ArcGIS Earth
Service Description: lidar_sfm_dtm
Name: lidar_sfm_dtm
Description:
Single Fused Map Cache: false
Extent:
XMin: -1.88091112606E7
YMin: 7325411.131100788
XMax: -1.4605441760600783E7
YMax: 1.1538448931100003E7
Spatial Reference: 102100
(3857)
LatestVCSWkid(0)
Initial Extent:
XMin: -1.88091112606E7
YMin: 7325411.131100788
XMax: -1.4605441760600783E7
YMax: 1.1538448931100003E7
Spatial Reference: 102100
(3857)
LatestVCSWkid(0)
Full Extent:
XMin: -1.88091112606E7
YMin: 7325411.131100788
XMax: -1.4605441760600783E7
YMax: 1.1538448931100003E7
Spatial Reference: 102100
(3857)
LatestVCSWkid(0)
Pixel Size X: 0.0999999999999814
Pixel Size Y: 0.09999999999998138
Band Count: 1
Pixel Type: F32
RasterFunction Infos: {"rasterFunctionInfos": [
{
"name": "None",
"description": "Make a Raster or Raster Dataset into a Function Raster Dataset.",
"help": ""
},
{
"name": "None",
"description": "Make a Raster or Raster Dataset into a Function Raster Dataset.",
"help": ""
},
{
"name": "Hillshade",
"description": "A raster function template.",
"help": ""
},
{
"name": "Aspect",
"description": "A raster function template.",
"help": ""
},
{
"name": "Elevation Color Ramp",
"description": "A raster function template.",
"help": ""
},
{
"name": "Slope",
"description": "A raster function template.",
"help": ""
},
{
"name": "Shaded Relief",
"description": "A raster function template.",
"help": ""
},
{
"name": "Contours (100)",
"description": "100 interval contours. Units dependent on dataset. ",
"help": ""
},
{
"name": "Curvature",
"description": "Curvature raster, change in slope over distance. ",
"help": ""
},
{
"name": "Aspect-Slope",
"description": "Aspect Slope Raster",
"help": ""
}
]}
Mensuration Capabilities: Basic
Inspection Capabilities:
Has Histograms: true
Has Colormap: false
Has Multi Dimensions : false
Rendering Rule:
Min Scale: 0
Max Scale: 0
Resampling: false
Copyright Text:
Service Data Type: esriImageServiceDataTypeGeneric
Min Values: -581.4707641601562
Max Values: 7003.99365234375
Mean Values: 765.7177875129352
Standard Deviation Values: 976.3041226410875
Object ID Field: OBJECTID
Fields:
-
OBJECTID
(
type: esriFieldTypeOID, alias: OBJECTID
)
-
Shape
(
type: esriFieldTypeGeometry, alias: Shape
)
-
Name
(
type: esriFieldTypeString, alias: Name, length: 200
)
-
MinPS
(
type: esriFieldTypeDouble, alias: MinPS
)
-
MaxPS
(
type: esriFieldTypeDouble, alias: MaxPS
)
-
LowPS
(
type: esriFieldTypeDouble, alias: LowPS
)
-
HighPS
(
type: esriFieldTypeDouble, alias: HighPS
)
-
Category
(
type: esriFieldTypeInteger, alias: Category
, Coded Values:
[0: Unknown]
, [1: Primary]
, [2: Overview]
, ...6 more...
)
-
Tag
(
type: esriFieldTypeString, alias: Tag, length: 100
)
-
GroupName
(
type: esriFieldTypeString, alias: GroupName, length: 100
)
-
ProductName
(
type: esriFieldTypeString, alias: ProductName, length: 100
)
-
CenterX
(
type: esriFieldTypeDouble, alias: CenterX
)
-
CenterY
(
type: esriFieldTypeDouble, alias: CenterY
)
-
ZOrder
(
type: esriFieldTypeInteger, alias: ZOrder
)
-
Shape_Length
(
type: esriFieldTypeDouble, alias: Shape_Length
)
-
Shape_Area
(
type: esriFieldTypeDouble, alias: Shape_Area
)
-
dataset_id
(
type: esriFieldTypeInteger, alias: dataset_id
)
-
organizations_list
(
type: esriFieldTypeString, alias: organizations, length: 255
)
-
points_of_contact
(
type: esriFieldTypeString, alias: points_of_contact, length: 255
)
-
c_start_date
(
type: esriFieldTypeDate, alias: c_start_date, length: 8
)
-
c_end_date
(
type: esriFieldTypeDate, alias: c_end_date, length: 8
)
-
collection_year
(
type: esriFieldTypeSmallInteger, alias: collection_year
)
-
bsr
(
type: esriFieldTypeDouble, alias: bsr (meters)
)
-
quality_level
(
type: esriFieldTypeString, alias: quality_level, length: 50
)
-
point_spacing
(
type: esriFieldTypeDouble, alias: point_spacing
)
-
point_density
(
type: esriFieldTypeDouble, alias: point_density
)
-
vert_datum
(
type: esriFieldTypeString, alias: vert_datum, length: 254
)
-
horz_rms
(
type: esriFieldTypeDouble, alias: horz_rms
)
-
vert_rms
(
type: esriFieldTypeDouble, alias: vert_rms
)
-
horz_units
(
type: esriFieldTypeString, alias: horz_units, length: 50
)
-
vert_units
(
type: esriFieldTypeString, alias: vert_units, length: 50
)
-
project_id
(
type: esriFieldTypeInteger, alias: project_id
)
Default Mosaic Method: Northwest
Allowed Mosaic Methods: NorthWest,Center,LockRaster,ByAttribute,Nadir,Viewpoint,Seamline,None
SortField:
SortValue: null
Mosaic Operator: First
Default Compression Quality: 75
Default Resampling Method: Bilinear
Max Record Count: 1000
Max Image Height: 4100
Max Image Width: 15000
Max Download Image Count: 20
Max Mosaic Image Count: 20
Allow Raster Function: true
Allow Copy: true
Allow Analysis: true
Allow Compute TiePoints: false
Supports Statistics: true
Supports Advanced Queries: true
Use StandardizedQueries: true
Raster Type Infos:
Name: Raster Dataset
Description: Supports all ArcGIS Raster Datasets
Help:
Has Raster Attribute Table: false
Edit Fields Info: null
Ownership Based AccessControl For Rasters: null
Child Resources:
Info
Histograms
Statistics
Key Properties
Legend
Raster Function Infos
Supported Operations:
Export Image
Query
Identify
Measure
Compute Histograms
Compute Statistics Histograms
Get Samples
Compute Class Statistics
Query GPS Info
Find Images
Image to Map
Map to Image
Measure from Image
Image to Map Multiray
Query Boundary
Compute Pixel Location
Compute Angles
Validate
Project