View In:
ArcGIS JavaScript
ArcGIS Online Map Viewer
ArcGIS Earth
Service Description: bdl_ortho_rgb
Name: bdl_ortho_rgb
Description:
Single Fused Map Cache: false
Extent:
XMin: -1.88133392575E7
YMin: 7549252.975624971
XMax: -1.4623230465359144E7
YMax: 1.1119155726499997E7
Spatial Reference: 102100
(3857)
LatestVCSWkid(0)
Initial Extent:
XMin: -1.88133392575E7
YMin: 7549252.975624971
XMax: -1.4623230465359144E7
YMax: 1.1119155726499997E7
Spatial Reference: 102100
(3857)
LatestVCSWkid(0)
Full Extent:
XMin: -1.88133392575E7
YMin: 7549252.975624971
XMax: -1.4623230465359144E7
YMax: 1.1119155726499997E7
Spatial Reference: 102100
(3857)
LatestVCSWkid(0)
Pixel Size X: 0.027705999999992438
Pixel Size Y: 0.02770599999999244
Band Count: 3
Pixel Type: U8
RasterFunction Infos: {"rasterFunctionInfos": [{
"name": "None",
"description": "",
"help": ""
}]}
Mensuration Capabilities: Basic
Inspection Capabilities:
Has Histograms: false
Has Colormap: false
Has Multi Dimensions : false
Rendering Rule:
Min Scale: 0
Max Scale: 0
Resampling: false
Copyright Text:
Service Data Type: esriImageServiceDataTypeRGB
Min Values: N/A
Max Values: N/A
Mean Values: N/A
Standard Deviation Values: N/A
Object ID Field: OBJECTID
Fields:
-
OBJECTID
(
type: esriFieldTypeOID, alias: OBJECTID
)
-
Shape
(
type: esriFieldTypeGeometry, alias: Shape
)
-
Name
(
type: esriFieldTypeString, alias: Name, length: 200
)
-
MinPS
(
type: esriFieldTypeDouble, alias: MinPS
)
-
MaxPS
(
type: esriFieldTypeDouble, alias: MaxPS
)
-
LowPS
(
type: esriFieldTypeDouble, alias: LowPS
)
-
HighPS
(
type: esriFieldTypeDouble, alias: HighPS
)
-
Category
(
type: esriFieldTypeInteger, alias: Category
, Coded Values:
[0: Unknown]
, [1: Primary]
, [2: Overview]
, ...6 more...
)
-
Tag
(
type: esriFieldTypeString, alias: Tag, length: 100
)
-
GroupName
(
type: esriFieldTypeString, alias: GroupName, length: 100
)
-
ProductName
(
type: esriFieldTypeString, alias: ProductName, length: 100
)
-
CenterX
(
type: esriFieldTypeDouble, alias: CenterX
)
-
CenterY
(
type: esriFieldTypeDouble, alias: CenterY
)
-
ZOrder
(
type: esriFieldTypeInteger, alias: ZOrder
)
-
Shape_Length
(
type: esriFieldTypeDouble, alias: Shape_Length
)
-
Shape_Area
(
type: esriFieldTypeDouble, alias: Shape_Area
)
-
dataset_id
(
type: esriFieldTypeInteger, alias: dataset_id
)
-
organizations_list
(
type: esriFieldTypeString, alias: organizations, length: 255
)
-
points_of_contact
(
type: esriFieldTypeString, alias: points_of_contact, length: 255
)
-
c_start_date
(
type: esriFieldTypeDate, alias: c_start_date, length: 8
)
-
c_end_date
(
type: esriFieldTypeDate, alias: c_end_date, length: 8
)
-
collection_year
(
type: esriFieldTypeSmallInteger, alias: collection_year
)
-
bsr
(
type: esriFieldTypeDouble, alias: bsr (meters)
)
-
quality_level
(
type: esriFieldTypeString, alias: quality_level, length: 50
)
-
point_spacing
(
type: esriFieldTypeDouble, alias: point_spacing
)
-
point_density
(
type: esriFieldTypeDouble, alias: point_density
)
-
vert_datum
(
type: esriFieldTypeString, alias: vert_datum, length: 254
)
-
horz_rms
(
type: esriFieldTypeDouble, alias: horz_rms
)
-
vert_rms
(
type: esriFieldTypeDouble, alias: vert_rms
)
-
horz_units
(
type: esriFieldTypeString, alias: horz_units, length: 50
)
-
vert_units
(
type: esriFieldTypeString, alias: vert_units, length: 50
)
-
project_id
(
type: esriFieldTypeInteger, alias: project_id
)
Default Mosaic Method: Northwest
Allowed Mosaic Methods: NorthWest,Center,LockRaster,ByAttribute,Nadir,Viewpoint,Seamline,None
SortField:
SortValue: null
Mosaic Operator: First
Default Compression Quality: 75
Default Resampling Method: Bilinear
Max Record Count: 1000
Max Image Height: 4100
Max Image Width: 15000
Max Download Image Count: 20
Max Mosaic Image Count: 20
Allow Raster Function: true
Allow Copy: true
Allow Analysis: true
Allow Compute TiePoints: false
Supports Statistics: true
Supports Advanced Queries: true
Use StandardizedQueries: true
Raster Type Infos:
Name: Raster Dataset
Description: Supports all ArcGIS Raster Datasets
Help:
Has Raster Attribute Table: false
Edit Fields Info: null
Ownership Based AccessControl For Rasters: null
Child Resources:
Info
Statistics
Key Properties
Legend
Raster Function Infos
Supported Operations:
Export Image
Query
Identify
Measure
Compute Histograms
Compute Statistics Histograms
Get Samples
Compute Class Statistics
Query GPS Info
Find Images
Image to Map
Map to Image
Measure from Image
Image to Map Multiray
Query Boundary
Compute Pixel Location
Compute Angles
Validate
Project