View In:
ArcGIS JavaScript
ArcGIS Online Map Viewer
ArcGIS Earth
Service Description: SkyHub/DGGS_chefornak_sfm_2022_dsm
Name: SkyHub/DGGS_chefornak_sfm_2022_dsm
Description:
Single Fused Map Cache: false
Extent:
XMin: 538750.1046279689
YMin: 6668101.064563191
XMax: 540797.3720807688
YMax: 6670095.21055359
Spatial Reference: 102050
(6332)
VCSWkid(5703)
LatestVCSWkid(5703)
Initial Extent:
XMin: 538750.1046279689
YMin: 6668101.064563191
XMax: 540797.3720807688
YMax: 6670095.21055359
Spatial Reference: 102050
(6332)
VCSWkid(5703)
LatestVCSWkid(5703)
Full Extent:
XMin: 538750.1046279689
YMin: 6668101.064563191
XMax: 540797.3720807688
YMax: 6670095.21055359
Spatial Reference: 102050
(6332)
VCSWkid(5703)
LatestVCSWkid(5703)
Pixel Size X: 0.062422399999998414
Pixel Size Y: 0.06242239999998885
Band Count: 1
Pixel Type: F32
RasterFunction Infos: {"rasterFunctionInfos": [{
"name": "None",
"description": "",
"help": ""
}]}
Mensuration Capabilities: Basic
Inspection Capabilities:
Has Histograms: false
Has Colormap: false
Has Multi Dimensions : false
Rendering Rule:
Min Scale: 0
Max Scale: 0
Resampling: false
Copyright Text:
Service Data Type: esriImageServiceDataTypeGeneric
Min Values: N/A
Max Values: N/A
Mean Values: N/A
Standard Deviation Values: N/A
Object ID Field:
Fields:
None
Default Mosaic Method: Center
Allowed Mosaic Methods:
SortField:
SortValue: null
Mosaic Operator: First
Default Compression Quality: 75
Default Resampling Method: Bilinear
Max Record Count: 0
Max Image Height: 4100
Max Image Width: 15000
Max Download Image Count: null
Max Mosaic Image Count: null
Allow Raster Function: true
Allow Copy: true
Allow Analysis: true
Allow Compute TiePoints: false
Supports Statistics: false
Supports Advanced Queries: false
Use StandardizedQueries: true
Raster Type Infos:
Name: Raster Dataset
Description: Supports all ArcGIS Raster Datasets
Help:
Has Raster Attribute Table: false
Edit Fields Info: null
Ownership Based AccessControl For Rasters: null
Child Resources:
Info
Statistics
Key Properties
Legend
Raster Function Infos
Supported Operations:
Export Image
Identify
Measure
Compute Histograms
Compute Statistics Histograms
Get Samples
Compute Class Statistics
Query Boundary
Compute Pixel Location
Compute Angles
Validate
Project