View In:
ArcGIS JavaScript
ArcGIS Online Map Viewer
ArcGIS Earth
Service Description: SkyHub/DGGS_bear_glacier_idl_2015_08_13_dsm
Name: SkyHub/DGGS_bear_glacier_idl_2015_08_13_dsm
Description:
Single Fused Map Cache: false
Extent:
XMin: 352922.7644530524
YMin: 6658560.776477672
XMax: 358245.90368105244
YMax: 6666470.064424672
Spatial Reference: 102053
(6335)
LatestVCSWkid(0)
Initial Extent:
XMin: 352922.7644530524
YMin: 6658560.776477672
XMax: 358245.90368105244
YMax: 6666470.064424672
Spatial Reference: 102053
(6335)
LatestVCSWkid(0)
Full Extent:
XMin: 352922.7644530524
YMin: 6658560.776477672
XMax: 358245.90368105244
YMax: 6666470.064424672
Spatial Reference: 102053
(6335)
LatestVCSWkid(0)
Pixel Size X: 0.22513700000000061
Pixel Size Y: 0.22513700000000011
Band Count: 1
Pixel Type: F32
RasterFunction Infos: {"rasterFunctionInfos": [{
"name": "None",
"description": "",
"help": ""
}]}
Mensuration Capabilities: Basic
Inspection Capabilities:
Has Histograms: false
Has Colormap: false
Has Multi Dimensions : false
Rendering Rule:
Min Scale: 0
Max Scale: 0
Resampling: false
Copyright Text:
Service Data Type: esriImageServiceDataTypeGeneric
Min Values: N/A
Max Values: N/A
Mean Values: N/A
Standard Deviation Values: N/A
Object ID Field:
Fields:
None
Default Mosaic Method: Center
Allowed Mosaic Methods:
SortField:
SortValue: null
Mosaic Operator: First
Default Compression Quality: 75
Default Resampling Method: Bilinear
Max Record Count: 0
Max Image Height: 4100
Max Image Width: 15000
Max Download Image Count: null
Max Mosaic Image Count: null
Allow Raster Function: true
Allow Copy: true
Allow Analysis: true
Allow Compute TiePoints: false
Supports Statistics: false
Supports Advanced Queries: false
Use StandardizedQueries: true
Raster Type Infos:
Name: Raster Dataset
Description: Supports all ArcGIS Raster Datasets
Help:
Has Raster Attribute Table: false
Edit Fields Info: null
Ownership Based AccessControl For Rasters: null
Child Resources:
Info
Statistics
Key Properties
Legend
Raster Function Infos
Supported Operations:
Export Image
Identify
Measure
Compute Histograms
Compute Statistics Histograms
Get Samples
Compute Class Statistics
Query Boundary
Compute Pixel Location
Compute Angles
Validate
Project