View In:
ArcGIS JavaScript
ArcGIS Online Map Viewer
ArcGIS Earth
Service Description: SkyHub/DGGS_alakanuk_sfm_2021_dsm
Name: SkyHub/DGGS_alakanuk_sfm_2021_dsm
Description:
Single Fused Map Cache: false
Extent:
XMin: 516010.24334362656
YMin: 6949329.073716731
XMax: 519660.96696982655
YMax: 6952157.538413831
Spatial Reference: 102050
(6332)
LatestVCSWkid(0)
Initial Extent:
XMin: 516010.24334362656
YMin: 6949329.073716731
XMax: 519660.96696982655
YMax: 6952157.538413831
Spatial Reference: 102050
(6332)
LatestVCSWkid(0)
Full Extent:
XMin: 516010.24334362656
YMin: 6949329.073716731
XMax: 519660.96696982655
YMax: 6952157.538413831
Spatial Reference: 102050
(6332)
LatestVCSWkid(0)
Pixel Size X: 0.06796089999999988
Pixel Size Y: 0.06796090000000533
Band Count: 1
Pixel Type: F32
RasterFunction Infos: {"rasterFunctionInfos": [{
"name": "None",
"description": "",
"help": ""
}]}
Mensuration Capabilities: Basic
Inspection Capabilities:
Has Histograms: false
Has Colormap: false
Has Multi Dimensions : false
Rendering Rule:
Min Scale: 0
Max Scale: 0
Resampling: false
Copyright Text:
Service Data Type: esriImageServiceDataTypeGeneric
Min Values: N/A
Max Values: N/A
Mean Values: N/A
Standard Deviation Values: N/A
Object ID Field:
Fields:
None
Default Mosaic Method: Center
Allowed Mosaic Methods:
SortField:
SortValue: null
Mosaic Operator: First
Default Compression Quality: 75
Default Resampling Method: Bilinear
Max Record Count: 0
Max Image Height: 4100
Max Image Width: 15000
Max Download Image Count: null
Max Mosaic Image Count: null
Allow Raster Function: true
Allow Copy: true
Allow Analysis: true
Allow Compute TiePoints: false
Supports Statistics: false
Supports Advanced Queries: false
Use StandardizedQueries: true
Raster Type Infos:
Name: Raster Dataset
Description: Supports all ArcGIS Raster Datasets
Help:
Has Raster Attribute Table: false
Edit Fields Info: null
Ownership Based AccessControl For Rasters: null
Child Resources:
Info
Statistics
Key Properties
Legend
Raster Function Infos
Supported Operations:
Export Image
Identify
Measure
Compute Histograms
Compute Statistics Histograms
Get Samples
Compute Class Statistics
Query Boundary
Compute Pixel Location
Compute Angles
Validate
Project