{ "currentVersion": 11.3, "serviceDescription": "
Disclaimer from AGO:<\/b><\/p>
<\/b><\/p>
These data were created in response to the immediate need for imagery following the Typhoon Merbok\u2019s impact on Western Alaska in late September 2022. The imagery was processed by State, Federal and University partners. While the imagery is geographically referenced, it was processed without the use of ground control. The accuracy of the data is unknown, and the imagery shared here is for planning purposes only. These data will continue to be reprocessed with control and accuracy assessments.<\/span><\/p> The State of Alaska makes no expressed or implied warranties with respect to the character, function, or capabilities of this product or its appropriateness for<\/span> any user's purposes. In no event, will the State of Alaska be liable for any incidental, indirect, special, consequential or other damages suffered by the user or any other person or entity whether from use of the product. Not for navigational purposes.<\/span><\/p> Disclaimer from USGS:<\/b><\/span><\/span><\/p> These\ndata are preliminary or provisional and are subject to revision. They are being\nprovided to meet the need for timely best science. The data have not received\nfinal approval by the U.S. Geological Survey (USGS) and are provided on the\ncondition that neither the USGS nor the U.S. Government shall be held liable\nfor any damages resulting from the authorized or unauthorized use of the data.<\/span> Disclaimer from AGO:<\/b><\/p> These data were created in response to the immediate need for imagery following the Typhoon Merbok\u2019s impact on Western Alaska in late September 2022. The imagery was processed by State, Federal and University partners. While the imagery is geographically referenced, it was processed without the use of ground control. The accuracy of the data is unknown, and the imagery shared here is for planning purposes only. These data will continue to be reprocessed with control and accuracy assessments.<\/span><\/p> The State of Alaska makes no expressed or implied warranties with respect to the character, function, or capabilities of this product or its appropriateness for<\/span> any user's purposes. In no event, will the State of Alaska be liable for any incidental, indirect, special, consequential or other damages suffered by the user or any other person or entity whether from use of the product. Not for navigational purposes.<\/span><\/p> Disclaimer from USGS:<\/b><\/span><\/span><\/p> These\ndata are preliminary or provisional and are subject to revision. They are being\nprovided to meet the need for timely best science. The data have not received\nfinal approval by the U.S. Geological Survey (USGS) and are provided on the\ncondition that neither the USGS nor the U.S. Government shall be held liable\nfor any damages resulting from the authorized or unauthorized use of the data.<\/span>
For additional information please contact Dr. Leslie Jones leslie.jones2@alaska.gov.<\/span><\/span><\/p>
<\/span><\/span><\/p>
<\/span><\/span><\/p>
<\/span><\/span><\/p>
<\/span><\/span><\/p>",
"name": "Typhoon_Merbok_Orthoimagery",
"description": "
<\/b><\/p>
For additional information please contact Dr. Leslie Jones leslie.jones2@alaska.gov.<\/span><\/span><\/p>
<\/span><\/span><\/p>
<\/span><\/span><\/p>
<\/span><\/span><\/p>
<\/span><\/span><\/p>",
"extent": {
"xmin": -1.896411961266634E7,
"ymin": 7781278.661377882,
"xmax": -1.7897268031336036E7,
"ymax": 9591016.53723131,
"spatialReference": {
"wkid": 102100,
"latestWkid": 3857
}
},
"initialExtent": {
"xmin": -1.896411961266634E7,
"ymin": 7781278.661377882,
"xmax": -1.7897268031336036E7,
"ymax": 9591016.53723131,
"spatialReference": {
"wkid": 102100,
"latestWkid": 3857
}
},
"fullExtent": {
"xmin": -1.896411961266634E7,
"ymin": 7781278.661377882,
"xmax": -1.7897268031336036E7,
"ymax": 9591016.53723131,
"spatialReference": {
"wkid": 102100,
"latestWkid": 3857
}
},
"sortableFields": "MinPS,MaxPS,LowPS,HighPS,CenterX,CenterY,ZOrder,Shape_Length,Shape_Area,collection_date",
"bandCount": 4,
"pixelType": "U8",
"minValues": [],
"maxValues": [],
"meanValues": [],
"stdvValues": [],
"hasMultidimensions": false,
"pixelSizeX": 0.016035808768883147,
"pixelSizeY": 0.01603580876888315,
"meanPixelSize": 0.01603580876888315,
"datasetFormat": "AMD",
"uncompressedSize": 30032946007764480,
"blockWidth": 2048,
"blockHeight": 256,
"compressionType": "None",
"bandNames": [
"Band_1",
"Band_2",
"Band_3",
"Band_4"
],
"allowCopy": true,
"allowAnalysis": true,
"itemAccess": false,
"inspectionCapabilities": "",
"minPixelSize": 0,
"maxPixelSize": 0,
"copyrightText": "State of Alaska, Alaska Geospatial Office, UAF IARC, UAF ACGL",
"serviceDataType": "esriImageServiceDataTypeGeneric",
"serviceSourceType": "esriImageServiceSourceTypeMosaicDataset",
"objectIdField": "OBJECTID",
"fields": [
{
"name": "OBJECTID",
"type": "esriFieldTypeOID",
"alias": "OBJECTID",
"domain": null
},
{
"name": "Shape",
"type": "esriFieldTypeGeometry",
"alias": "Shape",
"domain": null
},
{
"name": "Name",
"type": "esriFieldTypeString",
"alias": "Name",
"domain": null,
"length": 200
},
{
"name": "MinPS",
"type": "esriFieldTypeDouble",
"alias": "MinPS",
"domain": null
},
{
"name": "MaxPS",
"type": "esriFieldTypeDouble",
"alias": "MaxPS",
"domain": null
},
{
"name": "LowPS",
"type": "esriFieldTypeDouble",
"alias": "LowPS",
"domain": null
},
{
"name": "HighPS",
"type": "esriFieldTypeDouble",
"alias": "HighPS",
"domain": null
},
{
"name": "Category",
"type": "esriFieldTypeInteger",
"alias": "Category",
"domain": {
"type": "codedValue",
"name": "MosaicCatalogItemCategoryDomain",
"description": "Catalog item categories.",
"codedValues": [
{
"name": "Unknown",
"code": 0
},
{
"name": "Primary",
"code": 1
},
{
"name": "Overview",
"code": 2
},
{
"name": "Unprocessed Overview",
"code": 3
},
{
"name": "Partial Overview",
"code": 4
},
{
"name": "Inactive",
"code": 5
},
{
"name": "Uploaded",
"code": 253
},
{
"name": "Incomplete",
"code": 254
},
{
"name": "Custom",
"code": 255
}
],
"mergePolicy": "esriMPTDefaultValue",
"splitPolicy": "esriSPTDefaultValue"
}
},
{
"name": "Tag",
"type": "esriFieldTypeString",
"alias": "Tag",
"domain": null,
"length": 100
},
{
"name": "GroupName",
"type": "esriFieldTypeString",
"alias": "GroupName",
"domain": null,
"length": 100
},
{
"name": "ProductName",
"type": "esriFieldTypeString",
"alias": "ProductName",
"domain": null,
"length": 100
},
{
"name": "CenterX",
"type": "esriFieldTypeDouble",
"alias": "CenterX",
"domain": null
},
{
"name": "CenterY",
"type": "esriFieldTypeDouble",
"alias": "CenterY",
"domain": null
},
{
"name": "ZOrder",
"type": "esriFieldTypeInteger",
"alias": "ZOrder",
"domain": null
},
{
"name": "Shape_Length",
"type": "esriFieldTypeDouble",
"alias": "Shape_Length",
"domain": null
},
{
"name": "Shape_Area",
"type": "esriFieldTypeDouble",
"alias": "Shape_Area",
"domain": null
},
{
"name": "collection_date",
"type": "esriFieldTypeDate",
"alias": "collection_date",
"domain": null,
"length": 8
},
{
"name": "poc",
"type": "esriFieldTypeString",
"alias": "poc",
"domain": null,
"length": 255
},
{
"name": "dowload_link",
"type": "esriFieldTypeString",
"alias": "dowload_link",
"domain": null,
"length": 255
},
{
"name": "metadata_link",
"type": "esriFieldTypeString",
"alias": "metadata_link",
"domain": null,
"length": 255
}
],
"capabilities": "Catalog,Mensuration,Image,Metadata",
"defaultMosaicMethod": "Northwest",
"allowedMosaicMethods": "NorthWest,Center,LockRaster,ByAttribute,Nadir,Viewpoint,Seamline,None",
"sortField": "",
"sortValue": null,
"sortAscending": true,
"mosaicOperator": "First",
"maxDownloadSizeLimit": 2048,
"defaultCompressionQuality": 75,
"defaultResamplingMethod": "Bilinear",
"maxImageHeight": 4100,
"maxImageWidth": 15000,
"maxRecordCount": 1000,
"maxDownloadImageCount": 20,
"maxMosaicImageCount": 20,
"allowRasterFunction": true,
"rasterFunctionInfos": [
{
"name": "None",
"description": "",
"help": ""
}
],
"rasterTypeInfos": [
{
"name": "Raster Dataset",
"description": "Supports all ArcGIS Raster Datasets",
"help": ""
}
],
"mensurationCapabilities": "Basic",
"hasHistograms": false,
"hasColormap": false,
"hasRasterAttributeTable": false,
"minScale": 0,
"maxScale": 0,
"exportTilesAllowed": false,
"supportsStatistics": true,
"supportsAdvancedQueries": true,
"editFieldsInfo": null,
"ownershipBasedAccessControlForRasters": null,
"allowComputeTiePoints": false,
"useStandardizedQueries": true,
"advancedQueryCapabilities": {
"useStandardizedQueries": true,
"supportsStatistics": true,
"supportsOrderBy": true,
"supportsDistinct": true,
"supportsPagination": true
},
"spatialReference": {
"wkid": 102100,
"latestWkid": 3857
},
"resampling": false
}