{
 "currentVersion": 11.3,
 "serviceDescription": "SkyHub/MSB_MSB_2019_dtm",
 "name": "SkyHub/MSB_MSB_2019_dtm",
 "description": "",
 "extent": {
  "xmin": 1558041,
  "ymin": 2642526.000000001,
  "xmax": 2163308.9999999986,
  "ymax": 2934012,
  "spatialReference": {
   "wkid": 102392,
   "latestWkid": 102392
  }
 },
 "initialExtent": {
  "xmin": 1558041,
  "ymin": 2642526.000000001,
  "xmax": 2163308.9999999986,
  "ymax": 2934012,
  "spatialReference": {
   "wkid": 102392,
   "latestWkid": 102392
  }
 },
 "fullExtent": {
  "xmin": 1558041,
  "ymin": 2642526.000000001,
  "xmax": 2163308.9999999986,
  "ymax": 2934012,
  "spatialReference": {
   "wkid": 102392,
   "latestWkid": 102392
  }
 },
 "sortableFields": "",
 "bandCount": 1,
 "pixelType": "F32",
 "minValues": [],
 "maxValues": [],
 "meanValues": [],
 "stdvValues": [],
 "hasMultidimensions": false,
 "pixelSizeX": 2.999999999999993,
 "pixelSizeY": 2.9999999999999902,
 "meanPixelSize": 0.9144018288036552,
 "datasetFormat": "TIFF",
 "uncompressedSize": 78412065888,
 "blockWidth": 512,
 "blockHeight": 512,
 "compressionType": "LZW",
 "bandNames": [
  "Band_1"
 ],
 "allowCopy": true,
 "allowAnalysis": true,
 "itemAccess": false,
 "inspectionCapabilities": "",
 "noDataValue": -999999,
 "noDataValues": [
  -999999
 ],
 "minPixelSize": 0,
 "maxPixelSize": 0,
 "copyrightText": "",
 "serviceDataType": "esriImageServiceDataTypeGeneric",
 "serviceSourceType": "esriImageServiceSourceTypeDataset",
 "objectIdField": "",
 "fields": [],
 "capabilities": "Image,Metadata,Mensuration",
 "defaultMosaicMethod": "Center",
 "allowedMosaicMethods": "",
 "sortField": "",
 "sortValue": null,
 "sortAscending": true,
 "mosaicOperator": "First",
 "defaultCompressionQuality": 75,
 "defaultResamplingMethod": "Bilinear",
 "maxImageHeight": 4100,
 "maxImageWidth": 15000,
 "maxRecordCount": 0,
 "allowRasterFunction": true,
 "rasterFunctionInfos": [
  {
   "name": "None",
   "description": "",
   "help": ""
  }
 ],
 "rasterTypeInfos": [
  {
   "name": "Raster Dataset",
   "description": "Supports all ArcGIS Raster Datasets",
   "help": ""
  }
 ],
 "mensurationCapabilities": "Basic",
 "hasHistograms": false,
 "hasColormap": false,
 "hasRasterAttributeTable": false,
 "minScale": 0,
 "maxScale": 0,
 "exportTilesAllowed": false,
 "supportsStatistics": false,
 "supportsAdvancedQueries": false,
 "editFieldsInfo": null,
 "ownershipBasedAccessControlForRasters": null,
 "allowComputeTiePoints": false,
 "useStandardizedQueries": true,
 "advancedQueryCapabilities": {
  "useStandardizedQueries": true,
  "supportsStatistics": false,
  "supportsOrderBy": false,
  "supportsDistinct": false,
  "supportsPagination": false
 },
 "spatialReference": {
  "wkid": 102392,
  "latestWkid": 102392
 }
}
