{
 "currentVersion": 11.3,
 "serviceDescription": "SkyHub/DGGS_haines_2014_dtm",
 "name": "SkyHub/DGGS_haines_2014_dtm",
 "description": "",
 "extent": {
  "xmin": 2331693.0000000065,
  "ymin": 2692500.0000000037,
  "xmax": 2367500.9999999963,
  "ymax": 2727818.9999999935,
  "spatialReference": {
   "wkid": 102445,
   "latestWkid": 102445
  }
 },
 "initialExtent": {
  "xmin": 2331693.0000000065,
  "ymin": 2692500.0000000037,
  "xmax": 2367500.9999999963,
  "ymax": 2727818.9999999935,
  "spatialReference": {
   "wkid": 102445,
   "latestWkid": 102445
  }
 },
 "fullExtent": {
  "xmin": 2331693.0000000065,
  "ymin": 2692500.0000000037,
  "xmax": 2367500.9999999963,
  "ymax": 2727818.9999999935,
  "spatialReference": {
   "wkid": 102445,
   "latestWkid": 102445
  }
 },
 "sortableFields": "",
 "bandCount": 1,
 "pixelType": "F32",
 "minValues": [],
 "maxValues": [],
 "meanValues": [],
 "stdvValues": [],
 "hasMultidimensions": false,
 "pixelSizeX": 2.9999999999991416,
 "pixelSizeY": 2.99999999999913,
 "meanPixelSize": 0.9144018288033943,
 "datasetFormat": "TIFF",
 "uncompressedSize": 562090112,
 "blockWidth": 512,
 "blockHeight": 512,
 "compressionType": "LZW",
 "bandNames": [
  "Band_1"
 ],
 "allowCopy": true,
 "allowAnalysis": true,
 "itemAccess": false,
 "inspectionCapabilities": "",
 "minPixelSize": 0,
 "maxPixelSize": 0,
 "copyrightText": "",
 "serviceDataType": "esriImageServiceDataTypeGeneric",
 "serviceSourceType": "esriImageServiceSourceTypeDataset",
 "objectIdField": "",
 "fields": [],
 "capabilities": "Mensuration,Image,Metadata",
 "defaultMosaicMethod": "Center",
 "allowedMosaicMethods": "",
 "sortField": "",
 "sortValue": null,
 "sortAscending": true,
 "mosaicOperator": "First",
 "defaultCompressionQuality": 75,
 "defaultResamplingMethod": "Bilinear",
 "maxImageHeight": 4100,
 "maxImageWidth": 15000,
 "maxRecordCount": 0,
 "allowRasterFunction": true,
 "rasterFunctionInfos": [
  {
   "name": "None",
   "description": "",
   "help": ""
  }
 ],
 "rasterTypeInfos": [
  {
   "name": "Raster Dataset",
   "description": "Supports all ArcGIS Raster Datasets",
   "help": ""
  }
 ],
 "mensurationCapabilities": "Basic",
 "hasHistograms": false,
 "hasColormap": false,
 "hasRasterAttributeTable": false,
 "minScale": 0,
 "maxScale": 0,
 "exportTilesAllowed": false,
 "supportsStatistics": false,
 "supportsAdvancedQueries": false,
 "editFieldsInfo": null,
 "ownershipBasedAccessControlForRasters": null,
 "allowComputeTiePoints": false,
 "useStandardizedQueries": true,
 "advancedQueryCapabilities": {
  "useStandardizedQueries": true,
  "supportsStatistics": false,
  "supportsOrderBy": false,
  "supportsDistinct": false,
  "supportsPagination": false
 },
 "spatialReference": {
  "wkid": 102445,
  "latestWkid": 102445
 },
 "resampling": false
}
