{
 "currentVersion": 11.3,
 "serviceDescription": "SkyHub/DGGS_chugash_2016_dsm",
 "name": "SkyHub/DGGS_chugash_2016_dsm",
 "description": "",
 "extent": {
  "xmin": 340731.157846062,
  "ymin": 6706311.215862598,
  "xmax": 400142.587846062,
  "ymax": 6757399.265862599,
  "spatialReference": {
   "wkid": 102053,
   "latestWkid": 6335
  }
 },
 "initialExtent": {
  "xmin": 340731.157846062,
  "ymin": 6706311.215862598,
  "xmax": 400142.587846062,
  "ymax": 6757399.265862599,
  "spatialReference": {
   "wkid": 102053,
   "latestWkid": 6335
  }
 },
 "fullExtent": {
  "xmin": 340731.157846062,
  "ymin": 6706311.215862598,
  "xmax": 400142.587846062,
  "ymax": 6757399.265862599,
  "spatialReference": {
   "wkid": 102053,
   "latestWkid": 6335
  }
 },
 "sortableFields": "",
 "bandCount": 1,
 "pixelType": "F32",
 "minValues": [],
 "maxValues": [],
 "meanValues": [],
 "stdvValues": [],
 "hasMultidimensions": false,
 "pixelSizeX": 0.2925,
 "pixelSizeY": 0.29250000000000426,
 "meanPixelSize": 0.2925000000000021,
 "datasetFormat": "TIFF",
 "uncompressedSize": 141904962240,
 "blockWidth": 512,
 "blockHeight": 512,
 "compressionType": "LZW",
 "bandNames": [
  "Band_1"
 ],
 "allowCopy": true,
 "allowAnalysis": true,
 "itemAccess": false,
 "inspectionCapabilities": "",
 "noDataValue": -32767,
 "noDataValues": [
  -32767
 ],
 "minPixelSize": 0,
 "maxPixelSize": 0,
 "copyrightText": "",
 "serviceDataType": "esriImageServiceDataTypeGeneric",
 "serviceSourceType": "esriImageServiceSourceTypeDataset",
 "objectIdField": "",
 "fields": [],
 "capabilities": "Mensuration,Image,Metadata",
 "defaultMosaicMethod": "Center",
 "allowedMosaicMethods": "",
 "sortField": "",
 "sortValue": null,
 "sortAscending": true,
 "mosaicOperator": "First",
 "defaultCompressionQuality": 75,
 "defaultResamplingMethod": "Bilinear",
 "maxImageHeight": 4100,
 "maxImageWidth": 15000,
 "maxRecordCount": 0,
 "allowRasterFunction": true,
 "rasterFunctionInfos": [
  {
   "name": "None",
   "description": "",
   "help": ""
  }
 ],
 "rasterTypeInfos": [
  {
   "name": "Raster Dataset",
   "description": "Supports all ArcGIS Raster Datasets",
   "help": ""
  }
 ],
 "mensurationCapabilities": "Basic",
 "hasHistograms": false,
 "hasColormap": false,
 "hasRasterAttributeTable": false,
 "minScale": 0,
 "maxScale": 0,
 "exportTilesAllowed": false,
 "supportsStatistics": false,
 "supportsAdvancedQueries": false,
 "editFieldsInfo": null,
 "ownershipBasedAccessControlForRasters": null,
 "allowComputeTiePoints": false,
 "useStandardizedQueries": true,
 "advancedQueryCapabilities": {
  "useStandardizedQueries": true,
  "supportsStatistics": false,
  "supportsOrderBy": false,
  "supportsDistinct": false,
  "supportsPagination": false
 },
 "spatialReference": {
  "wkid": 102053,
  "latestWkid": 6335
 },
 "resampling": false
}
