{
 "currentVersion": 11.3,
 "serviceDescription": "SkyHub/DGGS_bradfield_to_behms_2014_dsm",
 "name": "SkyHub/DGGS_bradfield_to_behms_2014_dsm",
 "description": "",
 "extent": {
  "xmin": 3102500.0001220703,
  "ymin": 1512498.0001220703,
  "xmax": 3155003.0001220703,
  "ymax": 1597500.0001220703,
  "spatialReference": {
   "wkt2": "PROJCRS[\"NAD_1983_StatePlane_Alaska_1_FIPS_5001\",BASEGEOGCRS[\"GCS_North_American_1983\",DATUM[\"D_North_American_1983\",ELLIPSOID[\"GRS_1980\",6378137.0,298.257222101,LENGTHUNIT[\"Meter\",1.0]]],PRIMEM[\"Greenwich\",0.0,ANGLEUNIT[\"Degree\",0.0174532925199433]],CS[ellipsoidal,2],ANGLEUNIT[\"Degree\",0.0174532925199433]],CONVERSION[\"Hotine_Oblique_Mercator_Azimuth_Natural_Origin\",METHOD[\"Hotine_Oblique_Mercator_Azimuth_Natural_Origin\"],PARAMETER[\"False_Easting\",16404166.6666667,LENGTHUNIT[\"Foot_US\",0.3048006096012192]],PARAMETER[\"False_Northing\",-16404166.6666667,LENGTHUNIT[\"Foot_US\",0.3048006096012192]],PARAMETER[\"Scale_Factor\",0.9999,SCALEUNIT[\"Unity\",1.0]],PARAMETER[\"Azimuth\",-36.869897638889,ANGLEUNIT[\"Degree\",0.0174532925199433]],PARAMETER[\"Longitude_Of_Center\",-133.666666666667,ANGLEUNIT[\"Degree\",0.0174532925199433]],PARAMETER[\"Latitude_Of_Center\",57.0,ANGLEUNIT[\"Degree\",0.0174532925199433]]],CS[Cartesian,2],AXIS[\"Easting (X)\",east,ORDER[1]],AXIS[\"Northing (Y)\",north,ORDER[2]],LENGTHUNIT[\"Foot_US\",0.3048006096012192]]",
   "wkt": "PROJCS[\"NAD_1983_StatePlane_Alaska_1_FIPS_5001\",GEOGCS[\"GCS_North_American_1983\",DATUM[\"D_North_American_1983\",SPHEROID[\"GRS_1980\",6378137.0,298.257222101]],PRIMEM[\"Greenwich\",0.0],UNIT[\"Degree\",0.0174532925199433]],PROJECTION[\"Hotine_Oblique_Mercator_Azimuth_Natural_Origin\"],PARAMETER[\"False_Easting\",16404166.6666667],PARAMETER[\"False_Northing\",-16404166.6666667],PARAMETER[\"Scale_Factor\",0.9999],PARAMETER[\"Azimuth\",-36.869897638889],PARAMETER[\"Longitude_Of_Center\",-133.666666666667],PARAMETER[\"Latitude_Of_Center\",57.0],UNIT[\"Foot_US\",0.3048006096012192]]"
  }
 },
 "initialExtent": {
  "xmin": 3102500.0001220703,
  "ymin": 1512498.0001220703,
  "xmax": 3155003.0001220703,
  "ymax": 1597500.0001220703,
  "spatialReference": {
   "wkt2": "PROJCRS[\"NAD_1983_StatePlane_Alaska_1_FIPS_5001\",BASEGEOGCRS[\"GCS_North_American_1983\",DATUM[\"D_North_American_1983\",ELLIPSOID[\"GRS_1980\",6378137.0,298.257222101,LENGTHUNIT[\"Meter\",1.0]]],PRIMEM[\"Greenwich\",0.0,ANGLEUNIT[\"Degree\",0.0174532925199433]],CS[ellipsoidal,2],ANGLEUNIT[\"Degree\",0.0174532925199433]],CONVERSION[\"Hotine_Oblique_Mercator_Azimuth_Natural_Origin\",METHOD[\"Hotine_Oblique_Mercator_Azimuth_Natural_Origin\"],PARAMETER[\"False_Easting\",16404166.6666667,LENGTHUNIT[\"Foot_US\",0.3048006096012192]],PARAMETER[\"False_Northing\",-16404166.6666667,LENGTHUNIT[\"Foot_US\",0.3048006096012192]],PARAMETER[\"Scale_Factor\",0.9999,SCALEUNIT[\"Unity\",1.0]],PARAMETER[\"Azimuth\",-36.869897638889,ANGLEUNIT[\"Degree\",0.0174532925199433]],PARAMETER[\"Longitude_Of_Center\",-133.666666666667,ANGLEUNIT[\"Degree\",0.0174532925199433]],PARAMETER[\"Latitude_Of_Center\",57.0,ANGLEUNIT[\"Degree\",0.0174532925199433]]],CS[Cartesian,2],AXIS[\"Easting (X)\",east,ORDER[1]],AXIS[\"Northing (Y)\",north,ORDER[2]],LENGTHUNIT[\"Foot_US\",0.3048006096012192]]",
   "wkt": "PROJCS[\"NAD_1983_StatePlane_Alaska_1_FIPS_5001\",GEOGCS[\"GCS_North_American_1983\",DATUM[\"D_North_American_1983\",SPHEROID[\"GRS_1980\",6378137.0,298.257222101]],PRIMEM[\"Greenwich\",0.0],UNIT[\"Degree\",0.0174532925199433]],PROJECTION[\"Hotine_Oblique_Mercator_Azimuth_Natural_Origin\"],PARAMETER[\"False_Easting\",16404166.6666667],PARAMETER[\"False_Northing\",-16404166.6666667],PARAMETER[\"Scale_Factor\",0.9999],PARAMETER[\"Azimuth\",-36.869897638889],PARAMETER[\"Longitude_Of_Center\",-133.666666666667],PARAMETER[\"Latitude_Of_Center\",57.0],UNIT[\"Foot_US\",0.3048006096012192]]"
  }
 },
 "fullExtent": {
  "xmin": 3102500.0001220703,
  "ymin": 1512498.0001220703,
  "xmax": 3155003.0001220703,
  "ymax": 1597500.0001220703,
  "spatialReference": {
   "wkt2": "PROJCRS[\"NAD_1983_StatePlane_Alaska_1_FIPS_5001\",BASEGEOGCRS[\"GCS_North_American_1983\",DATUM[\"D_North_American_1983\",ELLIPSOID[\"GRS_1980\",6378137.0,298.257222101,LENGTHUNIT[\"Meter\",1.0]]],PRIMEM[\"Greenwich\",0.0,ANGLEUNIT[\"Degree\",0.0174532925199433]],CS[ellipsoidal,2],ANGLEUNIT[\"Degree\",0.0174532925199433]],CONVERSION[\"Hotine_Oblique_Mercator_Azimuth_Natural_Origin\",METHOD[\"Hotine_Oblique_Mercator_Azimuth_Natural_Origin\"],PARAMETER[\"False_Easting\",16404166.6666667,LENGTHUNIT[\"Foot_US\",0.3048006096012192]],PARAMETER[\"False_Northing\",-16404166.6666667,LENGTHUNIT[\"Foot_US\",0.3048006096012192]],PARAMETER[\"Scale_Factor\",0.9999,SCALEUNIT[\"Unity\",1.0]],PARAMETER[\"Azimuth\",-36.869897638889,ANGLEUNIT[\"Degree\",0.0174532925199433]],PARAMETER[\"Longitude_Of_Center\",-133.666666666667,ANGLEUNIT[\"Degree\",0.0174532925199433]],PARAMETER[\"Latitude_Of_Center\",57.0,ANGLEUNIT[\"Degree\",0.0174532925199433]]],CS[Cartesian,2],AXIS[\"Easting (X)\",east,ORDER[1]],AXIS[\"Northing (Y)\",north,ORDER[2]],LENGTHUNIT[\"Foot_US\",0.3048006096012192]]",
   "wkt": "PROJCS[\"NAD_1983_StatePlane_Alaska_1_FIPS_5001\",GEOGCS[\"GCS_North_American_1983\",DATUM[\"D_North_American_1983\",SPHEROID[\"GRS_1980\",6378137.0,298.257222101]],PRIMEM[\"Greenwich\",0.0],UNIT[\"Degree\",0.0174532925199433]],PROJECTION[\"Hotine_Oblique_Mercator_Azimuth_Natural_Origin\"],PARAMETER[\"False_Easting\",16404166.6666667],PARAMETER[\"False_Northing\",-16404166.6666667],PARAMETER[\"Scale_Factor\",0.9999],PARAMETER[\"Azimuth\",-36.869897638889],PARAMETER[\"Longitude_Of_Center\",-133.666666666667],PARAMETER[\"Latitude_Of_Center\",57.0],UNIT[\"Foot_US\",0.3048006096012192]]"
  }
 },
 "sortableFields": "",
 "bandCount": 1,
 "pixelType": "F32",
 "minValues": [],
 "maxValues": [],
 "meanValues": [],
 "stdvValues": [],
 "hasMultidimensions": false,
 "pixelSizeX": 3,
 "pixelSizeY": 3,
 "meanPixelSize": 0.9144018288036577,
 "datasetFormat": "TIFF",
 "uncompressedSize": 1983493336,
 "blockWidth": 512,
 "blockHeight": 512,
 "compressionType": "LZW",
 "bandNames": [
  "Band_1"
 ],
 "allowCopy": true,
 "allowAnalysis": true,
 "itemAccess": false,
 "inspectionCapabilities": "",
 "minPixelSize": 0,
 "maxPixelSize": 0,
 "copyrightText": "",
 "serviceDataType": "esriImageServiceDataTypeGeneric",
 "serviceSourceType": "esriImageServiceSourceTypeDataset",
 "objectIdField": "",
 "fields": [],
 "capabilities": "Mensuration,Image,Metadata",
 "defaultMosaicMethod": "Center",
 "allowedMosaicMethods": "",
 "sortField": "",
 "sortValue": null,
 "sortAscending": true,
 "mosaicOperator": "First",
 "defaultCompressionQuality": 75,
 "defaultResamplingMethod": "Bilinear",
 "maxImageHeight": 4100,
 "maxImageWidth": 15000,
 "maxRecordCount": 0,
 "allowRasterFunction": true,
 "rasterFunctionInfos": [
  {
   "name": "None",
   "description": "",
   "help": ""
  }
 ],
 "rasterTypeInfos": [
  {
   "name": "Raster Dataset",
   "description": "Supports all ArcGIS Raster Datasets",
   "help": ""
  }
 ],
 "mensurationCapabilities": "Basic",
 "hasHistograms": false,
 "hasColormap": false,
 "hasRasterAttributeTable": false,
 "minScale": 0,
 "maxScale": 0,
 "exportTilesAllowed": false,
 "supportsStatistics": false,
 "supportsAdvancedQueries": false,
 "editFieldsInfo": null,
 "ownershipBasedAccessControlForRasters": null,
 "allowComputeTiePoints": false,
 "useStandardizedQueries": true,
 "advancedQueryCapabilities": {
  "useStandardizedQueries": true,
  "supportsStatistics": false,
  "supportsOrderBy": false,
  "supportsDistinct": false,
  "supportsPagination": false
 },
 "spatialReference": {
  "wkt2": "PROJCRS[\"NAD_1983_StatePlane_Alaska_1_FIPS_5001\",BASEGEOGCRS[\"GCS_North_American_1983\",DATUM[\"D_North_American_1983\",ELLIPSOID[\"GRS_1980\",6378137.0,298.257222101,LENGTHUNIT[\"Meter\",1.0]]],PRIMEM[\"Greenwich\",0.0,ANGLEUNIT[\"Degree\",0.0174532925199433]],CS[ellipsoidal,2],ANGLEUNIT[\"Degree\",0.0174532925199433]],CONVERSION[\"Hotine_Oblique_Mercator_Azimuth_Natural_Origin\",METHOD[\"Hotine_Oblique_Mercator_Azimuth_Natural_Origin\"],PARAMETER[\"False_Easting\",16404166.6666667,LENGTHUNIT[\"Foot_US\",0.3048006096012192]],PARAMETER[\"False_Northing\",-16404166.6666667,LENGTHUNIT[\"Foot_US\",0.3048006096012192]],PARAMETER[\"Scale_Factor\",0.9999,SCALEUNIT[\"Unity\",1.0]],PARAMETER[\"Azimuth\",-36.869897638889,ANGLEUNIT[\"Degree\",0.0174532925199433]],PARAMETER[\"Longitude_Of_Center\",-133.666666666667,ANGLEUNIT[\"Degree\",0.0174532925199433]],PARAMETER[\"Latitude_Of_Center\",57.0,ANGLEUNIT[\"Degree\",0.0174532925199433]]],CS[Cartesian,2],AXIS[\"Easting (X)\",east,ORDER[1]],AXIS[\"Northing (Y)\",north,ORDER[2]],LENGTHUNIT[\"Foot_US\",0.3048006096012192]]",
  "wkt": "PROJCS[\"NAD_1983_StatePlane_Alaska_1_FIPS_5001\",GEOGCS[\"GCS_North_American_1983\",DATUM[\"D_North_American_1983\",SPHEROID[\"GRS_1980\",6378137.0,298.257222101]],PRIMEM[\"Greenwich\",0.0],UNIT[\"Degree\",0.0174532925199433]],PROJECTION[\"Hotine_Oblique_Mercator_Azimuth_Natural_Origin\"],PARAMETER[\"False_Easting\",16404166.6666667],PARAMETER[\"False_Northing\",-16404166.6666667],PARAMETER[\"Scale_Factor\",0.9999],PARAMETER[\"Azimuth\",-36.869897638889],PARAMETER[\"Longitude_Of_Center\",-133.666666666667],PARAMETER[\"Latitude_Of_Center\",57.0],UNIT[\"Foot_US\",0.3048006096012192]]"
 },
 "resampling": false
}
