{
 "currentVersion": 11.3,
 "serviceDescription": "The hydro-flattened bare earth digital elevation model (DEM) represents the earth's surface with all vegetation and anthropogenic features removed. It is derived from NIR lidar data using TIN processing of the ground point returns. All rivers greater than 30 meters in width and lakes at least 150 square meters in size have been flattened to consistent elevations. Water boundary polygons were developed using an algorithm which weights lidar-derived slopes, intensities, and return densities to detect the water's edge. Elevation values were then assigned to the water's edge from the lidar data creating 3D breaklines enforced during model creation to flatten water bodies. Some elevation values have been interpolated across areas in the ground model where there is no elevation data (e.g. under dense vegetation). The horizontal datum for this dataset is NAD83 (2011), the vertical datum is NAVD88, Geoid 12B, and the data is projected in UTM Zone 6. Units are in Meters. Quantum Spatial collected the Nenana-Totchaket Aerial Survey & Mapping lidar data for Alaska Department of Natural Resources between 07/11/2020 and 07/31/2020.",
 "name": "Nenana_Totchaket_2020_dtm",
 "description": "The hydro-flattened bare earth digital elevation model (DEM) represents the earth's surface with all vegetation and anthropogenic features removed. It is derived from NIR lidar data using TIN processing of the ground point returns. All rivers greater than 30 meters in width and lakes at least 150 square meters in size have been flattened to consistent elevations. Water boundary polygons were developed using an algorithm which weights lidar-derived slopes, intensities, and return densities to detect the water's edge. Elevation values were then assigned to the water's edge from the lidar data creating 3D breaklines enforced during model creation to flatten water bodies. Some elevation values have been interpolated across areas in the ground model where there is no elevation data (e.g. under dense vegetation). The horizontal datum for this dataset is NAD83 (2011), the vertical datum is NAVD88, Geoid 12B, and the data is projected in UTM Zone 6. Units are in Meters. Quantum Spatial collected the Nenana-Totchaket Aerial Survey & Mapping lidar data for Alaska Department of Natural Resources between 07/11/2020 and 07/31/2020.",
 "extent": {
  "xmin": 352500,
  "ymin": 7152750,
  "xmax": 393750,
  "ymax": 7183500,
  "spatialReference": {
   "wkid": 102053,
   "latestWkid": 6335
  }
 },
 "initialExtent": {
  "xmin": 352500,
  "ymin": 7152750,
  "xmax": 393750,
  "ymax": 7183500,
  "spatialReference": {
   "wkid": 102053,
   "latestWkid": 6335
  }
 },
 "fullExtent": {
  "xmin": 352500,
  "ymin": 7152750,
  "xmax": 393750,
  "ymax": 7183500,
  "spatialReference": {
   "wkid": 102053,
   "latestWkid": 6335
  }
 },
 "sortableFields": "MinPS,MaxPS,LowPS,HighPS,CenterX,CenterY,ZOrder,Shape_Length,Shape_Area",
 "bandCount": 1,
 "pixelType": "F32",
 "minValues": [
  97.25819396972656
 ],
 "maxValues": [
  182.61871337890625
 ],
 "meanValues": [
  132.32539056828153
 ],
 "stdvValues": [
  17.09437368706358
 ],
 "hasMultidimensions": false,
 "pixelSizeX": 1,
 "pixelSizeY": 1,
 "meanPixelSize": 1,
 "datasetFormat": "AMD",
 "uncompressedSize": 5073750000,
 "blockWidth": 2048,
 "blockHeight": 256,
 "compressionType": "None",
 "bandNames": [
  "Band_1"
 ],
 "allowCopy": true,
 "allowAnalysis": true,
 "itemAccess": false,
 "inspectionCapabilities": "",
 "minPixelSize": 0,
 "maxPixelSize": 0,
 "copyrightText": "Alaska Department of Natural Resources",
 "serviceDataType": "esriImageServiceDataTypeGeneric",
 "serviceSourceType": "esriImageServiceSourceTypeMosaicDataset",
 "objectIdField": "OBJECTID",
 "fields": [
  {
   "name": "OBJECTID",
   "type": "esriFieldTypeOID",
   "alias": "OBJECTID",
   "domain": null
  },
  {
   "name": "Shape",
   "type": "esriFieldTypeGeometry",
   "alias": "Shape",
   "domain": null
  },
  {
   "name": "Name",
   "type": "esriFieldTypeString",
   "alias": "Name",
   "domain": null,
   "length": 200
  },
  {
   "name": "MinPS",
   "type": "esriFieldTypeDouble",
   "alias": "MinPS",
   "domain": null
  },
  {
   "name": "MaxPS",
   "type": "esriFieldTypeDouble",
   "alias": "MaxPS",
   "domain": null
  },
  {
   "name": "LowPS",
   "type": "esriFieldTypeDouble",
   "alias": "LowPS",
   "domain": null
  },
  {
   "name": "HighPS",
   "type": "esriFieldTypeDouble",
   "alias": "HighPS",
   "domain": null
  },
  {
   "name": "Category",
   "type": "esriFieldTypeInteger",
   "alias": "Category",
   "domain": {
    "type": "codedValue",
    "name": "MosaicCatalogItemCategoryDomain",
    "description": "Catalog item categories.",
    "codedValues": [
     {
      "name": "Unknown",
      "code": 0
     },
     {
      "name": "Primary",
      "code": 1
     },
     {
      "name": "Overview",
      "code": 2
     },
     {
      "name": "Unprocessed Overview",
      "code": 3
     },
     {
      "name": "Partial Overview",
      "code": 4
     },
     {
      "name": "Inactive",
      "code": 5
     },
     {
      "name": "Uploaded",
      "code": 253
     },
     {
      "name": "Incomplete",
      "code": 254
     },
     {
      "name": "Custom",
      "code": 255
     }
    ],
    "mergePolicy": "esriMPTDefaultValue",
    "splitPolicy": "esriSPTDefaultValue"
   }
  },
  {
   "name": "Tag",
   "type": "esriFieldTypeString",
   "alias": "Tag",
   "domain": null,
   "length": 100
  },
  {
   "name": "GroupName",
   "type": "esriFieldTypeString",
   "alias": "GroupName",
   "domain": null,
   "length": 100
  },
  {
   "name": "ProductName",
   "type": "esriFieldTypeString",
   "alias": "ProductName",
   "domain": null,
   "length": 100
  },
  {
   "name": "CenterX",
   "type": "esriFieldTypeDouble",
   "alias": "CenterX",
   "domain": null
  },
  {
   "name": "CenterY",
   "type": "esriFieldTypeDouble",
   "alias": "CenterY",
   "domain": null
  },
  {
   "name": "ZOrder",
   "type": "esriFieldTypeInteger",
   "alias": "ZOrder",
   "domain": null
  },
  {
   "name": "Shape_Length",
   "type": "esriFieldTypeDouble",
   "alias": "Shape_Length",
   "domain": null
  },
  {
   "name": "Shape_Area",
   "type": "esriFieldTypeDouble",
   "alias": "Shape_Area",
   "domain": null
  }
 ],
 "capabilities": "Catalog,Image,Metadata",
 "defaultMosaicMethod": "Northwest",
 "allowedMosaicMethods": "NorthWest,Center,LockRaster,ByAttribute,Nadir,Viewpoint,Seamline,None",
 "sortField": "",
 "sortValue": null,
 "sortAscending": true,
 "mosaicOperator": "First",
 "maxDownloadSizeLimit": 2048,
 "defaultCompressionQuality": 75,
 "defaultResamplingMethod": "Bilinear",
 "maxImageHeight": 4100,
 "maxImageWidth": 15000,
 "maxRecordCount": 1000,
 "maxDownloadImageCount": 20,
 "maxMosaicImageCount": 20,
 "allowRasterFunction": true,
 "rasterFunctionInfos": [
  {
   "name": "Hillshade",
   "description": "A raster function template.",
   "help": ""
  },
  {
   "name": "None",
   "description": "Make a Raster or Raster Dataset into a Function Raster Dataset.",
   "help": ""
  },
  {
   "name": "Aspect",
   "description": "A raster function template.",
   "help": ""
  },
  {
   "name": "ElevationColorRamp1",
   "description": "A raster function template.",
   "help": ""
  },
  {
   "name": "Hillshade_Green_Tint",
   "description": "A raster function template.",
   "help": ""
  },
  {
   "name": "hillshade_test",
   "description": "test",
   "help": ""
  },
  {
   "name": "Shaded Relief 1",
   "description": "A raster function template.",
   "help": ""
  },
  {
   "name": "Shaded Relief",
   "description": "A raster function template.",
   "help": ""
  },
  {
   "name": "Slope",
   "description": "A raster function template.",
   "help": ""
  },
  {
   "name": "Unit Conversion",
   "description": "Changes values from one unit of measurement to another.",
   "help": ""
  },
  {
   "name": "contour (10 ft)",
   "description": "contour 10 ft\n",
   "help": ""
  },
  {
   "name": "contour (1 ft)",
   "description": "contour 1 ft",
   "help": ""
  },
  {
   "name": "contour (5ft)",
   "description": "A raster function template.",
   "help": ""
  }
 ],
 "rasterTypeInfos": [
  {
   "name": "Raster Dataset",
   "description": "Supports all ArcGIS Raster Datasets",
   "help": ""
  }
 ],
 "mensurationCapabilities": "None",
 "hasHistograms": true,
 "hasColormap": false,
 "hasRasterAttributeTable": false,
 "minScale": 0,
 "maxScale": 0,
 "exportTilesAllowed": false,
 "supportsStatistics": true,
 "supportsAdvancedQueries": true,
 "editFieldsInfo": null,
 "ownershipBasedAccessControlForRasters": null,
 "allowComputeTiePoints": false,
 "useStandardizedQueries": true,
 "advancedQueryCapabilities": {
  "useStandardizedQueries": true,
  "supportsStatistics": true,
  "supportsOrderBy": true,
  "supportsDistinct": true,
  "supportsPagination": true
 },
 "spatialReference": {
  "wkid": 102053,
  "latestWkid": 6335
 },
 "resampling": false
}
