<?xml version="1.0" encoding="UTF-8" standalone="no"?>
<metadata xml:lang="en">
<Esri>
<CreaDate>20220113</CreaDate>
<CreaTime>15503000</CreaTime>
<ArcGISFormat>1.0</ArcGISFormat>
<SyncOnce>FALSE</SyncOnce>
<DataProperties>
<lineage>
<Process Date="20220113" Time="155030" ToolSource="c:\program files\arcgis\pro\Resources\ArcToolbox\toolboxes\Data Management Tools.tbx\CreateMosaicDataset">CreateMosaicDataset \\somnus.dnr.state.ak.us\imagery\nenana_totchaket_2020\nenana_totchaket_2020.gdb nenana_totchaket_2020_dtm PROJCS["NAD_1983_2011_UTM_Zone_6N",GEOGCS["GCS_NAD_1983_2011",DATUM["D_NAD_1983_2011",SPHEROID["GRS_1980",6378137.0,298.257222101]],PRIMEM["Greenwich",0.0],UNIT["Degree",0.0174532925199433]],PROJECTION["Transverse_Mercator"],PARAMETER["False_Easting",500000.0],PARAMETER["False_Northing",0.0],PARAMETER["Central_Meridian",-147.0],PARAMETER["Scale_Factor",0.9996],PARAMETER["Latitude_Of_Origin",0.0],UNIT["Meter",1.0]] # # None #</Process>
<Process Date="20220114" Time="114657" ToolSource="c:\program files\arcgis\pro\Resources\ArcToolbox\toolboxes\Data Management Tools.tbx\AddRastersToMosaicDataset">AddRastersToMosaicDataset \\somnus.dnr.state.ak.us\imagery\nenana_totchaket_2020\nenana_totchaket_2020.gdb\nenana_totchaket_2020_dtm "Raster Dataset" \\somnus.dnr.state.ak.us\imagery\nenana_totchaket_2020\dtm UPDATE_CELL_SIZES UPDATE_BOUNDARY NO_OVERVIEWS # 0 1500 # # SUBFOLDERS "Allow duplicates" NO_PYRAMIDS NO_STATISTICS NO_THUMBNAILS # NO_FORCE_SPATIAL_REFERENCE NO_STATISTICS # NO_PIXEL_CACHE C:\Users\amherbst\AppData\Local\ESRI\rasterproxies\nenana_totchaket_2020_dtm</Process>
<Process Date="20221122" Time="131052" ToolSource="c:\users\amherbst\appdata\local\programs\arcgis\pro\Resources\ArcToolbox\toolboxes\Data Management Tools.tbx\CalculateStatistics">CalculateStatistics \\somnus.dnr.state.ak.us\imagery\nenana_totchaket_2020\nenana_totchaket_2020.gdb\nenana_totchaket_2020_dtm 100 100 # OVERWRITE "Feature Set"</Process>
<Process Date="20221122" Time="132612" ToolSource="c:\users\amherbst\appdata\local\programs\arcgis\pro\Resources\ArcToolbox\toolboxes\Data Management Tools.tbx\CalculateStatistics">CalculateStatistics \\somnus.dnr.state.ak.us\imagery\nenana_totchaket_2020\nenana_totchaket_2020.gdb\nenana_totchaket_2020_dtm 100 100 # OVERWRITE "Feature Set"</Process>
<Process Date="20221122" Time="135638" ToolSource="c:\users\amherbst\appdata\local\programs\arcgis\pro\Resources\ArcToolbox\toolboxes\Data Management Tools.tbx\CalculateStatistics">CalculateStatistics \\somnus.dnr.state.ak.us\imagery\nenana_totchaket_2020\nenana_totchaket_2020.gdb\nenana_totchaket_2020_dtm 100 100 # OVERWRITE "Feature Set"</Process>
</lineage>
<itemProps>
<imsContentType Sync="TRUE" export="False">002</imsContentType>
<itemName Sync="TRUE">nenana_totchaket_2020_dtm</itemName>
<itemLocation>
<linkage Sync="TRUE">file://\\somnus.dnr.state.ak.us\imagery\nenana_totchaket_2020\nenana_totchaket_2020.gdb</linkage>
<protocol Sync="TRUE">Local Area Network</protocol>
</itemLocation>
<nativeExtBox>
<westBL Sync="TRUE">352500.000000</westBL>
<eastBL Sync="TRUE">393750.000000</eastBL>
<southBL Sync="TRUE">7152750.000000</southBL>
<northBL Sync="TRUE">7183500.000000</northBL>
<exTypeCode Sync="TRUE">1</exTypeCode>
</nativeExtBox>
</itemProps>
<coordRef>
<type Sync="TRUE">Projected</type>
<geogcsn Sync="TRUE">GCS_NAD_1983_2011</geogcsn>
<csUnits Sync="TRUE">Linear Unit: Meter (1.000000)</csUnits>
<projcsn Sync="TRUE">NAD_1983_2011_UTM_Zone_6N</projcsn>
<peXml Sync="TRUE">&lt;ProjectedCoordinateSystem xsi:type='typens:ProjectedCoordinateSystem' xmlns:xsi='http://www.w3.org/2001/XMLSchema-instance' xmlns:xs='http://www.w3.org/2001/XMLSchema' xmlns:typens='http://www.esri.com/schemas/ArcGIS/2.8.0'&gt;&lt;WKT&gt;PROJCS[&amp;quot;NAD_1983_2011_UTM_Zone_6N&amp;quot;,GEOGCS[&amp;quot;GCS_NAD_1983_2011&amp;quot;,DATUM[&amp;quot;D_NAD_1983_2011&amp;quot;,SPHEROID[&amp;quot;GRS_1980&amp;quot;,6378137.0,298.257222101]],PRIMEM[&amp;quot;Greenwich&amp;quot;,0.0],UNIT[&amp;quot;Degree&amp;quot;,0.0174532925199433]],PROJECTION[&amp;quot;Transverse_Mercator&amp;quot;],PARAMETER[&amp;quot;False_Easting&amp;quot;,500000.0],PARAMETER[&amp;quot;False_Northing&amp;quot;,0.0],PARAMETER[&amp;quot;Central_Meridian&amp;quot;,-147.0],PARAMETER[&amp;quot;Scale_Factor&amp;quot;,0.9996],PARAMETER[&amp;quot;Latitude_Of_Origin&amp;quot;,0.0],UNIT[&amp;quot;Meter&amp;quot;,1.0],AUTHORITY[&amp;quot;EPSG&amp;quot;,6335]]&lt;/WKT&gt;&lt;XOrigin&gt;-5120900&lt;/XOrigin&gt;&lt;YOrigin&gt;-9998100&lt;/YOrigin&gt;&lt;XYScale&gt;450445547.3910538&lt;/XYScale&gt;&lt;ZOrigin&gt;-100000&lt;/ZOrigin&gt;&lt;ZScale&gt;10000&lt;/ZScale&gt;&lt;MOrigin&gt;-100000&lt;/MOrigin&gt;&lt;MScale&gt;10000&lt;/MScale&gt;&lt;XYTolerance&gt;0.001&lt;/XYTolerance&gt;&lt;ZTolerance&gt;0.001&lt;/ZTolerance&gt;&lt;MTolerance&gt;0.001&lt;/MTolerance&gt;&lt;HighPrecision&gt;true&lt;/HighPrecision&gt;&lt;WKID&gt;102053&lt;/WKID&gt;&lt;LatestWKID&gt;6335&lt;/LatestWKID&gt;&lt;/ProjectedCoordinateSystem&gt;</peXml>
</coordRef>
<RasterProperties>
<General>
<PixelDepth Sync="TRUE">32</PixelDepth>
<HasColormap Sync="TRUE">FALSE</HasColormap>
<CompressionType Sync="TRUE">None</CompressionType>
<NumBands Sync="TRUE">1</NumBands>
<Format Sync="TRUE">AMD</Format>
<HasPyramids Sync="TRUE">TRUE</HasPyramids>
<SourceType Sync="TRUE">continuous</SourceType>
<PixelType Sync="TRUE">floating point</PixelType>
<NoDataValue Sync="TRUE"/>
</General>
<Properties>
<MaxImageHeight Sync="TRUE">4100</MaxImageHeight>
<MaxImageWidth Sync="TRUE">15000</MaxImageWidth>
<MaxRecordCount Sync="TRUE">1000</MaxRecordCount>
<MaxDownloadImageCount Sync="TRUE">20</MaxDownloadImageCount>
<MaxDownloadSizeLimit Sync="TRUE">2048</MaxDownloadSizeLimit>
<MaxMosaicImageCount Sync="TRUE">20</MaxMosaicImageCount>
<DefaultCompressionQuality Sync="TRUE">75</DefaultCompressionQuality>
<DefaultCompressionTolerance Sync="TRUE">0.01</DefaultCompressionTolerance>
<BlendWidth Sync="TRUE">10</BlendWidth>
<ViewpointSpacingX Sync="TRUE">600</ViewpointSpacingX>
<ViewpointSpacingY Sync="TRUE">300</ViewpointSpacingY>
<AllowedItemMetadata Sync="TRUE">Basic</AllowedItemMetadata>
<DefaultResamplingMethod Sync="TRUE">1</DefaultResamplingMethod>
<AllowedMosaicMethods Sync="TRUE">NorthWest,Center,LockRaster,ByAttribute,Nadir,Viewpoint,Seamline,None</AllowedMosaicMethods>
<AllowedCompressions Sync="TRUE">None,JPEG,LZ77,LERC</AllowedCompressions>
<AllowedMensurationCapabilities Sync="TRUE">None</AllowedMensurationCapabilities>
<AvailableMensurationCapabilities Sync="TRUE">None,Basic,Base-Top Height,Top-Top Shadow Height,Base-Top Shadow Height,3D</AvailableMensurationCapabilities>
<ClipToBoundary Sync="TRUE">0</ClipToBoundary>
<FootprintMayContainNoData Sync="TRUE">-1</FootprintMayContainNoData>
<CellSizeTolerance Sync="TRUE">0.8</CellSizeTolerance>
<MinimumPixelContribution Sync="TRUE">1</MinimumPixelContribution>
<AvailableMosaicMethods Sync="TRUE">NorthWest,Center,LockRaster,ByAttribute,Nadir,Viewpoint,Seamline,None</AvailableMosaicMethods>
<AvailableCompressionMethods Sync="TRUE">None,JPEG,LZ77,LERC</AvailableCompressionMethods>
<AvailableItemMetadataLevels Sync="TRUE">None,Basic,Full</AvailableItemMetadataLevels>
<BandDefinitionKeyword Sync="TRUE">NONE</BandDefinitionKeyword>
<_docversion_ Sync="TRUE">10</_docversion_>
<AllowedFields Sync="TRUE">Name,MinPS,MaxPS,LowPS,HighPS,Tag,GroupName,ProductName,CenterX,CenterY,ZOrder,Shape_Length,Shape_Area</AllowedFields>
<MaxCellSize Sync="TRUE">12150</MaxCellSize>
<LowCellSize Sync="TRUE">1</LowCellSize>
<HighCellSize Sync="TRUE">243</HighCellSize>
<PixelCacheLocation Sync="TRUE">C:\Users\amherbst\AppData\Local\ESRI\rasterproxies\nenana_totchaket_2020_dtm</PixelCacheLocation>
<ClipToFootprint Sync="TRUE">-1</ClipToFootprint>
</Properties>
<Functions Sync="TRUE">
<Function Description="Performs on-the-fly mosaic on a raster catalog." Name="Mosaic Function"/>
</Functions>
</RasterProperties>
</DataProperties>
<scaleRange>
<minScale>150000000</minScale>
<maxScale>5000</maxScale>
</scaleRange>
<SyncDate>20220714</SyncDate>
<SyncTime>15422400</SyncTime>
<ModDate>20220714</ModDate>
<ModTime>15422400</ModTime>
</Esri>
<mdLang>
<languageCode Sync="TRUE" value="eng"/>
<countryCode Sync="TRUE" value="USA"/>
</mdLang>
<mdChar>
<CharSetCd Sync="TRUE" value="004"/>
</mdChar>
<mdHrLv>
<ScopeCd Sync="TRUE" value="005"/>
</mdHrLv>
<mdHrLvName Sync="TRUE">dataset</mdHrLvName>
<mdContact>
<rpOrgName>Quantum Spatial</rpOrgName>
<rpCntInfo>
<cntAddress addressType="both">
<delPoint>1100 Circle Blvd. Suite 126</delPoint>
<city>Corvallis</city>
<adminArea>OR</adminArea>
<postCode>97330</postCode>
<country>US</country>
</cntAddress>
<cntPhone>
<voiceNum tddtty="">541-752-1204</voiceNum>
</cntPhone>
<cntOnlineRes>
<linkage>http://www.quantumspatial.com</linkage>
</cntOnlineRes>
</rpCntInfo>
<displayName>Quantum Spatial</displayName>
<role>
<RoleCd value="006"/>
</role>
<displayName>Quantum Spatial</displayName>
</mdContact>
<mdDateSt Sync="FALSE">10/07/2020</mdDateSt>
<distInfo>
<distFormat>
<formatName Sync="TRUE">Raster Dataset</formatName>
<formatVer>1</formatVer>
</distFormat>
<distributor>
<distorCont>
<rpIndName>Cliff Baker</rpIndName>
<rpOrgName>Alaska Department of Natural Resources</rpOrgName>
<role>
<RoleCd value="005"/>
</role>
<rpCntInfo>
<cntAddress addressType="postal">
<delPoint>550 W. 7th Avenue, Suite 650</delPoint>
<city>Anchorage</city>
<adminArea>Alaska</adminArea>
<postCode>99501</postCode>
<eMailAdd>clifford.baker@alaska.gov</eMailAdd>
<country>US</country>
</cntAddress>
<cntPhone>
<voiceNum tddtty="">907-269-8522</voiceNum>
</cntPhone>
</rpCntInfo>
</distorCont>
</distributor>
</distInfo>
<dataIdInfo>
<envirDesc Sync="TRUE">Microsoft Windows 10 Version 10.0 (Build 19044) ; Esri ArcGIS 12.8.0.29751</envirDesc>
<dataLang>
<languageCode Sync="TRUE" value="eng"/>
<countryCode Sync="TRUE" value="USA"/>
</dataLang>
<idCitation>
<resTitle Sync="TRUE">Nenana_Totchaket_2020_dtm</resTitle>
<presForm>
<PresFormCd Sync="FALSE" value="007"/>
<fgdcGeoform>raster digital data</fgdcGeoform>
</presForm>
<citRespParty>
<rpOrgName>Quantum Spatial</rpOrgName>
<rpCntInfo>
<cntAddress addressType="both">
<delPoint>1100 Circle Blvd. Suite 126</delPoint>
<city>Corvallis</city>
<adminArea>OR</adminArea>
<postCode>97330</postCode>
<country>US</country>
</cntAddress>
<cntPhone>
<voiceNum tddtty="">541-752-1204</voiceNum>
</cntPhone>
<cntOnlineRes>
<linkage>http://www.quantumspatial.com</linkage>
</cntOnlineRes>
</rpCntInfo>
<displayName>Quantum Spatial</displayName>
<role>
<RoleCd value="006"/>
</role>
</citRespParty>
<date>
<pubDate>10/07/2020</pubDate>
</date>
</idCitation>
<spatRpType>
<SpatRepTypCd Sync="TRUE" value="002"/>
</spatRpType>
<dataExt>
<geoEle>
<GeoBndBox esriExtentType="search">
<exTypeCode Sync="TRUE">1</exTypeCode>
<westBL Sync="TRUE">-150.099179</westBL>
<eastBL Sync="TRUE">-149.210887</eastBL>
<northBL Sync="TRUE">64.759274</northBL>
<southBL Sync="TRUE">64.468171</southBL>
</GeoBndBox>
</geoEle>
<exDesc>Nenana-Totchaket Aerial Survey &amp; Mapping lidar</exDesc>
<tempEle>
<TempExtent>
<exTemp>
<TM_Period>
<tmBegin>07/11/2020</tmBegin>
<tmEnd>07/31/2020</tmEnd>
</TM_Period>
</exTemp>
</TempExtent>
</tempEle>
</dataExt>
<idPurp>Provide high resolution terrain elevation data from the Nenana-Totchaket Aerial Survey &amp; Mapping dataset.</idPurp>
<idAbs>The hydro-flattened bare earth digital elevation model (DEM) represents the earth's surface with all vegetation and anthropogenic features removed. It is derived from NIR lidar data using TIN processing of the ground point returns. All rivers greater than 30 meters in width and lakes at least 150 square meters in size have been flattened to consistent elevations. Water boundary polygons were developed using an algorithm which weights lidar-derived slopes, intensities, and return densities to detect the water's edge. Elevation values were then assigned to the water's edge from the lidar data creating 3D breaklines enforced during model creation to flatten water bodies. Some elevation values have been interpolated across areas in the ground model where there is no elevation data (e.g. under dense vegetation). The horizontal datum for this dataset is NAD83 (2011), the vertical datum is NAVD88, Geoid 12B, and the data is projected in UTM Zone 6. Units are in Meters. Quantum Spatial collected the Nenana-Totchaket Aerial Survey &amp; Mapping lidar data for Alaska Department of Natural Resources between 07/11/2020 and 07/31/2020.</idAbs>
<idCredit>Alaska Department of Natural Resources</idCredit>
<searchKeys>
<keyword>lidar</keyword>
<keyword>Light Detection and Ranging</keyword>
<keyword>elevation data</keyword>
<keyword>topography</keyword>
<keyword>bare earth</keyword>
<keyword>hydro-flattened</keyword>
<keyword>breaklines</keyword>
<keyword>DEM</keyword>
<keyword>digital elevation model</keyword>
<keyword>Nenana</keyword>
<keyword>Alaska</keyword>
<keyword>Yukon-Koyukuk</keyword>
</searchKeys>
<themeKeys>
<keyword>lidar, Light Detection and Ranging, elevation data, topography, bare earth, hydro-flattened, breaklines, DEM, digital elevation model</keyword>
</themeKeys>
<placeKeys>
<keyword>Nenana</keyword>
<keyword>Alaska</keyword>
<keyword>Yukon-Koyukuk</keyword>
</placeKeys>
<dataChar>
<CharSetCd value="004"/>
</dataChar>
<dataScale>
<scaleDist>
<value uom="m">1m</value>
</scaleDist>
</dataScale>
<suppInfo>This data is assembled in 750 m x 750 m tiles and projected in UTM Zone 6.</suppInfo>
<idStatus>
<ProgCd value="001"/>
</idStatus>
<idPoC>
<rpIndName>Cliff Baker</rpIndName>
<rpOrgName>Alaska Department of Natural Resources</rpOrgName>
<rpCntInfo>
<cntAddress addressType="postal">
<delPoint>550 W. 7th Avenue, Suite 650</delPoint>
<city>Anchorage</city>
<adminArea>Alaska</adminArea>
<postCode>99501</postCode>
<eMailAdd>clifford.baker@alaska.gov</eMailAdd>
<country>US</country>
</cntAddress>
<cntPhone>
<voiceNum tddtty="">907-269-8522</voiceNum>
</cntPhone>
</rpCntInfo>
<displayName>Cliff Baker</displayName>
<role>
<RoleCd value="007"/>
</role>
</idPoC>
<resMaint>
<maintFreq>
<MaintFreqCd value="011"/>
</maintFreq>
</resMaint>
<resConst>
<LegConsts>
<useLimit>Please contact Alaska Department of Natural Resources for information regarding the use of this data.</useLimit>
</LegConsts>
<Consts>
<useLimit>In some areas of heavy vegetation or forest cover, there may be relatively few ground points in the lidar data. TINing the points produces large triangles and hence the elevations may be less accurate within such areas. Elevation values for open water surfaces are derived from waters edge breaklines. Triangles were created across water surfaces by interpolating from the nearest breakline elevation points.</useLimit>
</Consts>
</resConst>
<tpCat>
<TopicCatCd value="006"/>
</tpCat>
</dataIdInfo>
<mdMaint>
<maintFreq>
<MaintFreqCd value="011"/>
</maintFreq>
</mdMaint>
<dqInfo>
<report dimension="" type="DQCompOm">
<measDesc>Lidar data has been collected and processed for all areas within the project study area.</measDesc>
<evalMethDesc>Flight plans are designed with sufficient sidelap to ensure there are no gaps between flightlines. Shaded relief images have been visually inspected for gaps. </evalMethDesc>
</report>
<report dimension="" type="DQConcConsis">
<measDesc>Shaded relief images have been visually inspected for data errors such as pits, border artifacts, and shifting. Lidar flightlines have been examined to ensure consistent elevation values across overlapping flightlines. The Root Mean Square Error (RMSE) of line to line relative accuracy for this dataset is 0.014 m. Please see the lidar data report for a discussion of the statistics related to this dataset.</measDesc>
<evalMethDesc>Data was examined at a 1:2000 scale. Relative accuracy of the flightlines was assessed in Microstation using TerraMatch. </evalMethDesc>
<measResult>
<QuanResult>
<quanValType>RMSE</quanValType>
<quanValUnit>
<UOM gmlID="" type="">
<unitSymbol>m</unitSymbol>
</UOM>
</quanValUnit>
<quanVal>0.014 m</quanVal>
</QuanResult>
</measResult>
</report>
<report dimension="vertical" type="DQAbsExtPosAcc">
<measDesc>The Non-vegetated Vertical Accuracy (NVA) of this dataset, tested at 95% confidence level is 0.038 m. Please see the lidar data report for a discussion of the statistics related to this dataset.</measDesc>
<evalMethDesc>Non-vegetated Vertical Accuracy was assessed using 22 ground check points. These check points were not used in the calibration or post processing of the lidar point cloud data. </evalMethDesc>
<measResult>
<QuanResult>
<quanValType>NVA</quanValType>
<quanValUnit>
<UOM gmlID="" type="">
<unitSymbol>m</unitSymbol>
</UOM>
</quanValUnit>
<quanVal>0.038 m</quanVal>
</QuanResult>
</measResult>
</report>
<report dimension="vertical" type="DQAbsExtPosAcc">
<measDesc>The Vegetated Vertical Accuracy (VVA) of this dataset, evaluated at the 95th percentile is 0.260 m. Please see the lidar data report for a discussion of the statistics related to this dataset.</measDesc>
<evalMethDesc>Vegetated Vertical Accuracy was assessed using 13 VVA check points. These check points were not used in the calibration or post processing of the lidar point cloud data. </evalMethDesc>
<measResult>
<QuanResult>
<quanValType>VVA</quanValType>
<quanValUnit>
<UOM gmlID="" type="">
<unitSymbol>m</unitSymbol>
</UOM>
</quanValUnit>
<quanVal>0.260 m</quanVal>
</QuanResult>
</measResult>
</report>
<dataLineage>
<prcStep>
<stepDesc>Acquisition. Quantum Spatial collected the Nenana-Totchaket Aerial Survey &amp; Mapping lidar data between 07/11/2020 and 07/31/2020. The survey used a Leica ALS80 laser system mounted in a Cessna Caravan. Ground level GPS and aircraft IMU were collected during the flight. Sensor: Leica ALS80
Maximum returns: 15
Nominal pulse density: 8 pulses/m^2
Nominal pulse spacing: 0.353 m
AGL: 1900 m
Speed: 140 knots
FOV: 40°
Scan frequency: 52 hz
Pulse rate: 579 kHz
Pulse duration: 2.5 ns
Pulse width: 32 cm
Wavelength: 1064 nm
Pulses in air mode: Multiple Pulses in Air
Beam divergence: 0.22 mrads
Swath width: 1383 m
Overlap: 60%
</stepDesc>
<stepDateTm>07/31/2020</stepDateTm>
</prcStep>
<prcStep>
<stepDesc>1. Flightlines and data were reviewed to ensure complete coverage of the study area and positional accuracy of the laser points. 2. Laser point return coordinates were computed using Waypoint Inertial Explorer 8.8 and Leica CloudPro 1.2.4 software based on independent data from the lidar system, IMU, and aircraft. 3. The raw lidar file was assembled into flightlines per return with each point having an associated x, y, and z coordinate. 4. Visual inspection of swath to swath laser point consistencies within the study area were used to perform manual refinements of system alignment. 5. Custom algorithms were designed to evaluate points between adjacent flightlines. Automated system alignment was computed based upon randomly selected swath to swath accuracy measurements that consider elevation, slope, and intensities. Specifically, refinement in the combination of system pitch, roll, and yaw offset parameters optimize internal consistency.
6. Noise (e.g., pits and birds) was filtered using post-processing software, based on known elevation ranges and included the removal of any cycle slips. 7. Using TerraScan and Microstation, ground classifications utilized custom settings appropriate to the study area. 8. The corrected and filtered return points were compared to the ground survey points collected to verify the vertical accuracy. 9. TIN processing of the ground point returns with water's edge breaklines enforced was used to create this hydro-flattened bare earth DEM. </stepDesc>
<stepDateTm>10/07/2020</stepDateTm>
</prcStep>
</dataLineage>
<dqScope>
<scpLvl>
<ScopeCd value="005"/>
</scpLvl>
</dqScope>
<report dimension="vertical" type="DQAbsExtPosAcc">
<measDesc>Vertical accuracy was also assessed using ground control points that were used in the calibration and post processing of the lidar point cloud as they still serve as a good indication of the overall accuracy of the lidar dataset. The Root Mean Square Error (RMSE) of the vertical accuracy of the lidar dataset as compared to ground control points is 0.020. Please see the lidar data report for a discussion of the statistics related to this dataset.</measDesc>
<evalMethDesc>8 ground control points were collected and utilized in the calibration and post processing of the lidar data point cloud.</evalMethDesc>
<measResult>
<QuanResult>
<quanValType>RMSE</quanValType>
<quanVal>0.020</quanVal>
<quanValUnit>
<UOM gmlID="" type="">
<unitSymbol>m</unitSymbol>
</UOM>
</quanValUnit>
</QuanResult>
</measResult>
</report>
</dqInfo>
<spatRepInfo>
<Georect>
<cellGeo>
<CellGeoCd Sync="TRUE" value="002"/>
</cellGeo>
<numDims Sync="TRUE">2</numDims>
<tranParaAv Sync="TRUE">1</tranParaAv>
<chkPtAv Sync="TRUE">0</chkPtAv>
<cornerPts>
<pos Sync="TRUE">352500.000000 7152750.000000</pos>
</cornerPts>
<cornerPts>
<pos Sync="TRUE">352500.000000 7183500.000000</pos>
</cornerPts>
<cornerPts>
<pos Sync="TRUE">393750.000000 7183500.000000</pos>
</cornerPts>
<cornerPts>
<pos Sync="TRUE">393750.000000 7152750.000000</pos>
</cornerPts>
<centerPt>
<pos Sync="TRUE">373125.000000 7168125.000000</pos>
</centerPt>
<axisDimension type="002">
<dimSize Sync="TRUE">41250</dimSize>
<dimResol>
<value Sync="TRUE" uom="m">1.000000</value>
</dimResol>
</axisDimension>
<axisDimension type="001">
<dimSize Sync="TRUE">30750</dimSize>
<dimResol>
<value Sync="TRUE" uom="m">1.000000</value>
</dimResol>
</axisDimension>
<ptInPixel>
<PixOrientCd Sync="TRUE" value="001"/>
</ptInPixel>
</Georect>
</spatRepInfo>
<refSysInfo>
<RefSystem>
<refSysID>
<identCode Sync="TRUE" code="6335"/>
<idCodeSpace Sync="TRUE">EPSG</idCodeSpace>
<idVersion Sync="TRUE">8.2.2(10.2.1)</idVersion>
</refSysID>
</RefSystem>
</refSysInfo>
<contInfo>
<ImgDesc>
<contentTyp>
<ContentTypCd Sync="TRUE" value="001"/>
</contentTyp>
<covDim>
<Band>
<dimDescrp Sync="TRUE">Band_1</dimDescrp>
<maxVal Sync="TRUE">185.375839</maxVal>
<minVal Sync="TRUE">97.178749</minVal>
<bitsPerVal Sync="TRUE">32</bitsPerVal>
<valUnit>
<UOM gmlID="" type="length">
<unitSymbol>m</unitSymbol>
</UOM>
</valUnit>
</Band>
</covDim>
<attDesc>Digital Elevation Model</attDesc>
<trianInd>False</trianInd>
<radCalDatAv>False</radCalDatAv>
<camCalInAv>False</camCalInAv>
<filmDistInAv>False</filmDistInAv>
<lensDistInAv>False</lensDistInAv>
</ImgDesc>
</contInfo>
</metadata>
