{
 "currentVersion": 11.3,
 "serviceDescription": "Alaska_IFSAR_DSM",
 "name": "Alaska_IFSAR_DSM",
 "description": "",
 "extent": {
  "xmin": -2.00375070672E7,
  "ymin": 6263645.693800002,
  "xmax": 2.0037507842788246E7,
  "ymax": 1.1582595693800002E7,
  "spatialReference": {
   "wkid": 102100,
   "latestWkid": 3857
  }
 },
 "initialExtent": {
  "xmin": -2.00375070672E7,
  "ymin": 6263645.693800002,
  "xmax": 2.0037507842788246E7,
  "ymax": 1.1582595693800002E7,
  "spatialReference": {
   "wkid": 102100,
   "latestWkid": 3857
  }
 },
 "fullExtent": {
  "xmin": -2.00375070672E7,
  "ymin": 6263645.693800002,
  "xmax": 2.0037507842788246E7,
  "ymax": 1.1582595693800002E7,
  "spatialReference": {
   "wkid": 102100,
   "latestWkid": 3857
  }
 },
 "sortableFields": "MinPS,MaxPS,LowPS,HighPS,CenterX,CenterY,ZOrder,Shape_Length,Shape_Area,dataset_id,c_start_date,c_end_date,collection_year,bsr,point_spacing,point_density,horz_rms,vert_rms,project_id",
 "bandCount": 1,
 "pixelType": "F32",
 "minValues": [
  -32767
 ],
 "maxValues": [
  6090.2626953125
 ],
 "meanValues": [
  338.4828805988892
 ],
 "stdvValues": [
  1633.9828345150436
 ],
 "hasMultidimensions": false,
 "pixelSizeX": 4.999999988769592,
 "pixelSizeY": 5,
 "meanPixelSize": 4.999999994384796,
 "datasetFormat": "AMD",
 "uncompressedSize": 34105120165480,
 "blockWidth": 2048,
 "blockHeight": 256,
 "compressionType": "None",
 "bandNames": [
  "Band_1"
 ],
 "allowCopy": true,
 "allowAnalysis": true,
 "itemAccess": false,
 "inspectionCapabilities": "",
 "minPixelSize": 0,
 "maxPixelSize": 0,
 "copyrightText": "",
 "serviceDataType": "esriImageServiceDataTypeGeneric",
 "serviceSourceType": "esriImageServiceSourceTypeMosaicDataset",
 "objectIdField": "OBJECTID",
 "fields": [
  {
   "name": "OBJECTID",
   "type": "esriFieldTypeOID",
   "alias": "OBJECTID",
   "domain": null
  },
  {
   "name": "Shape",
   "type": "esriFieldTypeGeometry",
   "alias": "Shape",
   "domain": null
  },
  {
   "name": "Name",
   "type": "esriFieldTypeString",
   "alias": "Name",
   "domain": null,
   "length": 200
  },
  {
   "name": "MinPS",
   "type": "esriFieldTypeDouble",
   "alias": "MinPS",
   "domain": null
  },
  {
   "name": "MaxPS",
   "type": "esriFieldTypeDouble",
   "alias": "MaxPS",
   "domain": null
  },
  {
   "name": "LowPS",
   "type": "esriFieldTypeDouble",
   "alias": "LowPS",
   "domain": null
  },
  {
   "name": "HighPS",
   "type": "esriFieldTypeDouble",
   "alias": "HighPS",
   "domain": null
  },
  {
   "name": "Category",
   "type": "esriFieldTypeInteger",
   "alias": "Category",
   "domain": {
    "type": "codedValue",
    "name": "MosaicCatalogItemCategoryDomain",
    "description": "Catalog item categories.",
    "codedValues": [
     {
      "name": "Unknown",
      "code": 0
     },
     {
      "name": "Primary",
      "code": 1
     },
     {
      "name": "Overview",
      "code": 2
     },
     {
      "name": "Unprocessed Overview",
      "code": 3
     },
     {
      "name": "Partial Overview",
      "code": 4
     },
     {
      "name": "Inactive",
      "code": 5
     },
     {
      "name": "Uploaded",
      "code": 253
     },
     {
      "name": "Incomplete",
      "code": 254
     },
     {
      "name": "Custom",
      "code": 255
     }
    ],
    "mergePolicy": "esriMPTDefaultValue",
    "splitPolicy": "esriSPTDefaultValue"
   }
  },
  {
   "name": "Tag",
   "type": "esriFieldTypeString",
   "alias": "Tag",
   "domain": null,
   "length": 100
  },
  {
   "name": "GroupName",
   "type": "esriFieldTypeString",
   "alias": "GroupName",
   "domain": null,
   "length": 100
  },
  {
   "name": "ProductName",
   "type": "esriFieldTypeString",
   "alias": "ProductName",
   "domain": null,
   "length": 100
  },
  {
   "name": "CenterX",
   "type": "esriFieldTypeDouble",
   "alias": "CenterX",
   "domain": null
  },
  {
   "name": "CenterY",
   "type": "esriFieldTypeDouble",
   "alias": "CenterY",
   "domain": null
  },
  {
   "name": "ZOrder",
   "type": "esriFieldTypeInteger",
   "alias": "ZOrder",
   "domain": null
  },
  {
   "name": "Shape_Length",
   "type": "esriFieldTypeDouble",
   "alias": "Shape_Length",
   "domain": null
  },
  {
   "name": "Shape_Area",
   "type": "esriFieldTypeDouble",
   "alias": "Shape_Area",
   "domain": null
  },
  {
   "name": "dataset_id",
   "type": "esriFieldTypeInteger",
   "alias": "dataset_id",
   "domain": null
  },
  {
   "name": "organizations_list",
   "type": "esriFieldTypeString",
   "alias": "organizations",
   "domain": null,
   "length": 255
  },
  {
   "name": "points_of_contact",
   "type": "esriFieldTypeString",
   "alias": "points_of_contact",
   "domain": null,
   "length": 255
  },
  {
   "name": "c_start_date",
   "type": "esriFieldTypeDate",
   "alias": "c_start_date",
   "domain": null,
   "length": 8
  },
  {
   "name": "c_end_date",
   "type": "esriFieldTypeDate",
   "alias": "c_end_date",
   "domain": null,
   "length": 8
  },
  {
   "name": "collection_year",
   "type": "esriFieldTypeSmallInteger",
   "alias": "collection_year",
   "domain": null
  },
  {
   "name": "bsr",
   "type": "esriFieldTypeDouble",
   "alias": "bsr (meters)",
   "domain": null
  },
  {
   "name": "quality_level",
   "type": "esriFieldTypeString",
   "alias": "quality_level",
   "domain": null,
   "length": 50
  },
  {
   "name": "point_spacing",
   "type": "esriFieldTypeDouble",
   "alias": "point_spacing",
   "domain": null
  },
  {
   "name": "point_density",
   "type": "esriFieldTypeDouble",
   "alias": "point_density",
   "domain": null
  },
  {
   "name": "vert_datum",
   "type": "esriFieldTypeString",
   "alias": "vert_datum",
   "domain": null,
   "length": 254
  },
  {
   "name": "horz_rms",
   "type": "esriFieldTypeDouble",
   "alias": "horz_rms",
   "domain": null
  },
  {
   "name": "vert_rms",
   "type": "esriFieldTypeDouble",
   "alias": "vert_rms",
   "domain": null
  },
  {
   "name": "horz_units",
   "type": "esriFieldTypeString",
   "alias": "horz_units",
   "domain": null,
   "length": 50
  },
  {
   "name": "vert_units",
   "type": "esriFieldTypeString",
   "alias": "vert_units",
   "domain": null,
   "length": 50
  },
  {
   "name": "project_id",
   "type": "esriFieldTypeInteger",
   "alias": "project_id",
   "domain": null
  }
 ],
 "capabilities": "Image,Metadata,Catalog,Mensuration",
 "defaultMosaicMethod": "Northwest",
 "allowedMosaicMethods": "NorthWest,Center,LockRaster,ByAttribute,Nadir,Viewpoint,Seamline,None",
 "sortField": "",
 "sortValue": null,
 "sortAscending": true,
 "mosaicOperator": "First",
 "maxDownloadSizeLimit": 2048,
 "defaultCompressionQuality": 75,
 "defaultResamplingMethod": "Bilinear",
 "maxImageHeight": 4100,
 "maxImageWidth": 15000,
 "maxRecordCount": 1000,
 "maxDownloadImageCount": 20,
 "maxMosaicImageCount": 20,
 "allowRasterFunction": true,
 "rasterFunctionInfos": [
  {
   "name": "None",
   "description": "Make a Raster or Raster Dataset into a Function Raster Dataset.",
   "help": ""
  },
  {
   "name": "Aspect",
   "description": "A raster function template.",
   "help": ""
  },
  {
   "name": "Hillshade_Green_Tint",
   "description": "A raster function template.",
   "help": ""
  },
  {
   "name": "Hillshade",
   "description": "A raster function template.",
   "help": ""
  },
  {
   "name": "hillshade_test",
   "description": "test",
   "help": ""
  },
  {
   "name": "Shaded Relief",
   "description": "A raster function template.",
   "help": ""
  },
  {
   "name": "Slope",
   "description": "A raster function template.",
   "help": ""
  }
 ],
 "rasterTypeInfos": [
  {
   "name": "Raster Dataset",
   "description": "Supports all ArcGIS Raster Datasets",
   "help": ""
  }
 ],
 "mensurationCapabilities": "Basic",
 "hasHistograms": true,
 "hasColormap": false,
 "hasRasterAttributeTable": false,
 "minScale": 0,
 "maxScale": 0,
 "exportTilesAllowed": false,
 "supportsStatistics": true,
 "supportsAdvancedQueries": true,
 "editFieldsInfo": null,
 "ownershipBasedAccessControlForRasters": null,
 "allowComputeTiePoints": false,
 "useStandardizedQueries": true,
 "advancedQueryCapabilities": {
  "useStandardizedQueries": true,
  "supportsStatistics": true,
  "supportsOrderBy": true,
  "supportsDistinct": true,
  "supportsPagination": true
 },
 "spatialReference": {
  "wkid": 102100,
  "latestWkid": 3857
 }
}
