{
 "currentVersion": 11.3,
 "serviceDescription": "AK_SPCS2022_statewide_LandOnly_lc0995_6200_ppm60s_img",
 "name": "AK_SPCS2022_statewide_LandOnly_lc0995_6200_ppm60s_img",
 "description": "",
 "extent": {
  "xmin": -179.14733999999999,
  "ymin": 51.21526600400006,
  "xmax": 179.78599333333403,
  "ymax": 71.38193267066676,
  "spatialReference": {
   "wkid": 104145,
   "latestWkid": 6318
  }
 },
 "initialExtent": {
  "xmin": -179.14733999999999,
  "ymin": 51.21526600400006,
  "xmax": 179.78599333333403,
  "ymax": 71.38193267066676,
  "spatialReference": {
   "wkid": 104145,
   "latestWkid": 6318
  }
 },
 "fullExtent": {
  "xmin": -179.14733999999999,
  "ymin": 51.21526600400006,
  "xmax": 179.78599333333403,
  "ymax": 71.38193267066676,
  "spatialReference": {
   "wkid": 104145,
   "latestWkid": 6318
  }
 },
 "sortableFields": "",
 "bandCount": 1,
 "pixelType": "F32",
 "minValues": [
  -5732.5571289063
 ],
 "maxValues": [
  11100.990234375
 ],
 "meanValues": [
  -1873.6096232804
 ],
 "stdvValues": [
  3494.6480892999
 ],
 "hasMultidimensions": false,
 "pixelSizeX": 0.016666666666666698,
 "pixelSizeY": 0.016666666666666694,
 "meanPixelSize": 1855.3248465545628,
 "datasetFormat": "IMAGINE Image",
 "uncompressedSize": 104234240,
 "blockWidth": 64,
 "blockHeight": 64,
 "compressionType": "None",
 "bandNames": [
  "Layer_1"
 ],
 "allowCopy": true,
 "allowAnalysis": true,
 "itemAccess": false,
 "inspectionCapabilities": "",
 "noDataValue": -3.4028234663852886E38,
 "noDataValues": [
  -3.4028234663852886E38
 ],
 "minPixelSize": 0,
 "maxPixelSize": 0,
 "copyrightText": "",
 "serviceDataType": "esriImageServiceDataTypeGeneric",
 "serviceSourceType": "esriImageServiceSourceTypeDataset",
 "objectIdField": "",
 "fields": [],
 "capabilities": "Mensuration,Image,Metadata",
 "defaultMosaicMethod": "Center",
 "allowedMosaicMethods": "",
 "sortField": "",
 "sortValue": null,
 "sortAscending": true,
 "mosaicOperator": "First",
 "defaultCompressionQuality": 75,
 "defaultResamplingMethod": "Bilinear",
 "maxImageHeight": 4100,
 "maxImageWidth": 15000,
 "allowRasterFunction": true,
 "rasterFunctionInfos": [
  {
   "name": "None",
   "description": "",
   "help": ""
  }
 ],
 "rasterTypeInfos": [
  {
   "name": "Raster Dataset",
   "description": "Supports all ArcGIS Raster Datasets",
   "help": ""
  }
 ],
 "mensurationCapabilities": "Basic",
 "hasHistograms": true,
 "hasColormap": false,
 "hasRasterAttributeTable": false,
 "minScale": 0,
 "maxScale": 0,
 "exportTilesAllowed": false,
 "supportsStatistics": false,
 "supportsAdvancedQueries": false,
 "editFieldsInfo": null,
 "ownershipBasedAccessControlForRasters": null,
 "allowComputeTiePoints": false,
 "useStandardizedQueries": true,
 "advancedQueryCapabilities": {
  "useStandardizedQueries": true,
  "supportsStatistics": false,
  "supportsOrderBy": false,
  "supportsDistinct": false,
  "supportsPagination": false
 },
 "spatialReference": {
  "wkid": 104145,
  "latestWkid": 6318
 },
 "resampling": false
}
