<?xml version="1.0" encoding="UTF-8" standalone="no"?>
<metadata xml:lang="en">
<Esri>
<CreaDate>20220122</CreaDate>
<CreaTime>09043900</CreaTime>
<ArcGISFormat>1.0</ArcGISFormat>
<ArcGISstyle>FGDC CSDGM Metadata</ArcGISstyle>
<SyncOnce>FALSE</SyncOnce>
<DataProperties>
<lineage>
<Process Date="20220122" Time="085229" ToolSource="D:\GIS\Tools\MLD Tools.tbx\ExtractByMask">ExtractByMask D:\GIS\NGS\StatePlane\Rasters\Distortion\SPCS2022_MultiZoneAggr\ByState\NGS\AK_SPCS2022_21_zones_ppm15s.img D:\GIS\Data\Basemap_data\BasemapData_2022.gdb\BaseLayers_2022_NAD83_2011\States_US_2021_Census_tl_ClipToCoast_Dissolve D:\GIS\NGS\StatePlane\Rasters\Distortion\SPCS2022_MultiZoneAggr\ByState\NGS\AK_SPCS2022_LandOnly_21_zones_ppm15s.tif</Process>
<Process Date="20220123" Time="003735" ToolSource="c:\program files (x86)\arcgis\desktop10.8\ArcToolbox\Toolboxes\Data Management Tools.tbx\CopyRaster">CopyRaster D:\D_temp\Alaska_SPCS2022\Distortion\AK_SPCS2022_LandOnly_21_zones_ppm15s.tif D:\D_temp\Alaska_SPCS2022\Distortion\AK_SPCS2022_LandOnly_21_zones_ppm15s.img # # -3.402823e+38 NONE NONE # NONE NONE "IMAGINE Image" NONE</Process>
</lineage>
<itemProps>
<itemLocation>
<linkage Sync="TRUE">file://D:\D_temp\Alaska_SPCS2022\Distortion\AK_SPCS2022_LandOnly_21_zones_ppm15s.img</linkage>
<protocol Sync="TRUE">Local Area Network</protocol>
</itemLocation>
<itemName Sync="TRUE">AK_SPCS2022_LandOnly_21_zones_ppm15s.img</itemName>
<imsContentType Sync="TRUE">002</imsContentType>
<nativeExtBox>
<westBL Sync="TRUE">-179.150000</westBL>
<eastBL Sync="TRUE">179.779167</eastBL>
<southBL Sync="TRUE">50.745833</southBL>
<northBL Sync="TRUE">71.391667</northBL>
<exTypeCode Sync="TRUE">1</exTypeCode>
</nativeExtBox>
</itemProps>
<copyHistory>
<copy date="20220122" dest="\\MLD7710\D$\D_temp\AK_SPCS2022_LandOnly_21_zones_ppm15s.tif" source="D:\GIS\NGS\StatePlane\Rasters\Distortion\SPCS2022_MultiZoneAggr\ByState\NGS\AK_SPCS2022_LandOnly_21_zones_ppm15s.tif" time="09043900"/>
</copyHistory>
<coordRef>
<type Sync="TRUE">Geographic</type>
<geogcsn Sync="TRUE">GCS_NAD_1983_2011</geogcsn>
<csUnits Sync="TRUE">Angular Unit: Degree (0.017453)</csUnits>
<peXml Sync="TRUE">&lt;GeographicCoordinateSystem xsi:type='typens:GeographicCoordinateSystem' xmlns:xsi='http://www.w3.org/2001/XMLSchema-instance' xmlns:xs='http://www.w3.org/2001/XMLSchema' xmlns:typens='http://www.esri.com/schemas/ArcGIS/10.8'&gt;&lt;WKT&gt;GEOGCS[&amp;quot;GCS_NAD_1983_2011&amp;quot;,DATUM[&amp;quot;D_NAD_1983_2011&amp;quot;,SPHEROID[&amp;quot;GRS_1980&amp;quot;,6378137.0,298.257222101]],PRIMEM[&amp;quot;Greenwich&amp;quot;,0.0],UNIT[&amp;quot;Degree&amp;quot;,0.0174532925199433],AUTHORITY[&amp;quot;EPSG&amp;quot;,6318]]&lt;/WKT&gt;&lt;XOrigin&gt;-400&lt;/XOrigin&gt;&lt;YOrigin&gt;-400&lt;/YOrigin&gt;&lt;XYScale&gt;11258999068426.238&lt;/XYScale&gt;&lt;ZOrigin&gt;-100000&lt;/ZOrigin&gt;&lt;ZScale&gt;10000&lt;/ZScale&gt;&lt;MOrigin&gt;-100000&lt;/MOrigin&gt;&lt;MScale&gt;10000&lt;/MScale&gt;&lt;XYTolerance&gt;8.983152841195215e-09&lt;/XYTolerance&gt;&lt;ZTolerance&gt;0.001&lt;/ZTolerance&gt;&lt;MTolerance&gt;0.001&lt;/MTolerance&gt;&lt;HighPrecision&gt;true&lt;/HighPrecision&gt;&lt;LeftLongitude&gt;-180&lt;/LeftLongitude&gt;&lt;WKID&gt;104145&lt;/WKID&gt;&lt;LatestWKID&gt;6318&lt;/LatestWKID&gt;&lt;/GeographicCoordinateSystem&gt;</peXml>
</coordRef>
<RasterProperties>
<General>
<PixelDepth Sync="TRUE">32</PixelDepth>
<HasColormap Sync="TRUE">FALSE</HasColormap>
<CompressionType Sync="TRUE">RLE</CompressionType>
<NumBands Sync="TRUE">1</NumBands>
<Format Sync="TRUE">IMAGINE Image</Format>
<HasPyramids Sync="TRUE">TRUE</HasPyramids>
<SourceType Sync="TRUE">continuous</SourceType>
<PixelType Sync="TRUE">floating point</PixelType>
<NoDataValue Sync="TRUE">-3.4028231e+38</NoDataValue>
</General>
</RasterProperties>
</DataProperties>
<SyncDate>20220123</SyncDate>
<SyncTime>00373400</SyncTime>
<ModDate>20220123</ModDate>
<ModTime>00373400</ModTime>
</Esri>
<dataIdInfo>
<envirDesc Sync="TRUE"> Version 6.2 (Build 9200) ; Esri ArcGIS 10.9.1.28388</envirDesc>
<dataLang>
<languageCode Sync="TRUE" value="eng"/>
<countryCode Sync="TRUE" value="USA"/>
</dataLang>
<idCitation>
<resTitle Sync="TRUE">AK_SPCS2022_LandOnly_21_zones_ppm15s_img</resTitle>
<presForm>
<PresFormCd Sync="TRUE" value="005"/>
</presForm>
</idCitation>
<spatRpType>
<SpatRepTypCd Sync="TRUE" value="002"/>
</spatRpType>
<dataExt>
<geoEle>
<GeoBndBox esriExtentType="search">
<exTypeCode Sync="TRUE">1</exTypeCode>
<westBL Sync="TRUE">-179.150000</westBL>
<eastBL Sync="TRUE">179.779167</eastBL>
<northBL Sync="TRUE">71.391667</northBL>
<southBL Sync="TRUE">50.745833</southBL>
</GeoBndBox>
</geoEle>
</dataExt>
<idAbs/>
<searchKeys>
<keyword>geodesy</keyword>
<keyword>alaska</keyword>
</searchKeys>
<idPurp>AK_SPCS2022_LandOnly_21_zones_ppm15s_img</idPurp>
<idCredit/>
<resConst>
<Consts>
<useLimit/>
</Consts>
</resConst>
</dataIdInfo>
<mdLang>
<languageCode Sync="TRUE" value="eng"/>
<countryCode Sync="TRUE" value="USA"/>
</mdLang>
<mdChar>
<CharSetCd Sync="TRUE" value="004"/>
</mdChar>
<distInfo>
<distFormat>
<formatName Sync="TRUE">Raster Dataset</formatName>
</distFormat>
</distInfo>
<mdHrLv>
<ScopeCd Sync="TRUE" value="005"/>
</mdHrLv>
<mdHrLvName Sync="TRUE">dataset</mdHrLvName>
<refSysInfo>
<RefSystem>
<refSysID>
<identCode Sync="TRUE" code="6318"/>
<idCodeSpace Sync="TRUE">EPSG</idCodeSpace>
<idVersion Sync="TRUE">8.2.2(10.2.1)</idVersion>
</refSysID>
</RefSystem>
</refSysInfo>
<spatRepInfo>
<Georect>
<cellGeo>
<CellGeoCd Sync="TRUE" value="002"/>
</cellGeo>
<numDims Sync="TRUE">2</numDims>
<tranParaAv Sync="TRUE">1</tranParaAv>
<chkPtAv Sync="TRUE">0</chkPtAv>
<cornerPts>
<pos Sync="TRUE">-179.150000 50.745833</pos>
</cornerPts>
<cornerPts>
<pos Sync="TRUE">-179.150000 71.391667</pos>
</cornerPts>
<cornerPts>
<pos Sync="TRUE">179.779167 71.391667</pos>
</cornerPts>
<cornerPts>
<pos Sync="TRUE">179.779167 50.745833</pos>
</cornerPts>
<centerPt>
<pos Sync="TRUE">0.314583 61.068750</pos>
</centerPt>
<axisDimension type="002">
<dimSize Sync="TRUE">86143</dimSize>
<dimResol>
<value Sync="TRUE" uom="deg">0.004167</value>
</dimResol>
</axisDimension>
<axisDimension type="001">
<dimSize Sync="TRUE">4955</dimSize>
<dimResol>
<value Sync="TRUE" uom="deg">0.004167</value>
</dimResol>
</axisDimension>
<ptInPixel>
<PixOrientCd Sync="TRUE" value="001"/>
</ptInPixel>
</Georect>
</spatRepInfo>
<contInfo>
<ImgDesc>
<contentTyp>
<ContentTypCd Sync="TRUE" value="001"/>
</contentTyp>
<covDim>
<Band>
<dimDescrp Sync="TRUE">Layer_1</dimDescrp>
<maxVal Sync="TRUE">335.924591</maxVal>
<minVal Sync="TRUE">-801.560791</minVal>
<bitsPerVal Sync="TRUE">32</bitsPerVal>
<valUnit>
<UOM type="length"/>
</valUnit>
</Band>
</covDim>
</ImgDesc>
</contInfo>
<mdDateSt Sync="TRUE">20220123</mdDateSt>
</metadata>
